FILENAME: O4810925.NWS.1115133.tif
QUADRANGLE_NAME: FRESNO DAM
QUADRANT: NW
WEST_LONGITUDE: -110 0 0.00000
EAST_LONGITUDE: -109 56 15.00000
NORTH_LATITUDE: 48 37 30.00000
SOUTH_LATITUDE: 48 33 45.00000
PRODUCTION_DATE: 2000 10 24
RASTER_ORDER: LEFT_RIGHT/TOP_BOTTOM
BAND_ORGANIZATION: SINGLE FILE
BAND_CONTENT: BLACK&WHITE
BAND_CONTENT: UNDEFINED
BAND_CONTENT: UNDEFINED
BITS_PER_PIXEL: 8
SAMPLES_AND_LINES: 5361 7613
HORIZONTAL_DATUM: NAD83
HORIZONTAL_COORDINATE_SYSTEM: UTM
COORDINATE_ZONE: 12
HORIZONTAL_UNITS: METERS
HORIZONTAL_RESOLUTION: 1.00000
SECONDARY_HORIZONTAL_DATUM: NAD27
XY_ORIGIN: 573332.00000 5386615.00000
SECONDARY_XY_ORIGIN: 573390.60800 5386397.03700
NATION: US
NATION: "SCIENCE
STATE: MT
NW_QUAD_CORNER_XY: 573689.58100 5386252.75000
NE_QUAD_CORNER_XY: 578295.11600 5386314.96000
SE_QUAD_CORNERY_XY: 578391.75400 5379367.77200
SW_QUAD_CORNER_XY: 573780.53400 5379305.54500
SECONDARY_NW_QUAD_XY: 573691.93000 5386033.77800
SECONDARY_NE_QUAD_XY: 578297.61100 5386095.99100
SECONDARY_SE_QUAD_XY: 578394.25000 5379148.80900
SECONDARY_SW_QUAD_XY: 573782.88200 5379086.58000
RMSE_XY: 2.00000
IMAGE_SOURCE: BLACK AND WHITE FILM
SOURCE_IMAGE_ID: NAPP 9158 037
SOURCE_IMAGE_DATE: 1997 09 04
SOURCE_DEM_DATE: 1993 00 00
AGENCY: WESTERN MAPPING CENTER (WMC)
PRODUCER: UNDEFINED
PRODUCTION_SYSTEM: GIS/MAGIC
COMPRESSION: UNDEFINED
STANDARD_VERSION: 1996 12
METADATA_DATE: 2000 11 08
DATA_FILE_SIZE: 40818654
BYTE_COUNT: 5361
