FILENAME: O4810924.NES.1115747.tif
QUADRANGLE_NAME: TULE LAKE
QUADRANT: NE
WEST_LONGITUDE: -109 3 45.00000
EAST_LONGITUDE: -109 0 0.00000
NORTH_LATITUDE: 48 45 0.00000
SOUTH_LATITUDE: 48 41 15.00000
PRODUCTION_DATE: 2000 10 30
RASTER_ORDER: LEFT_RIGHT/TOP_BOTTOM
BAND_ORGANIZATION: SINGLE FILE
BAND_CONTENT: BLACK&WHITE
BAND_CONTENT: UNDEFINED
BAND_CONTENT: UNDEFINED
BITS_PER_PIXEL: 8
SAMPLES_AND_LINES: 5432 7670
HORIZONTAL_DATUM: NAD83
HORIZONTAL_COORDINATE_SYSTEM: UTM
COORDINATE_ZONE: 12
HORIZONTAL_UNITS: METERS
HORIZONTAL_RESOLUTION: 1.00000
SECONDARY_HORIZONTAL_DATUM: NAD27
XY_ORIGIN: 642064.00000 5401895.00000
SECONDARY_XY_ORIGIN: 642121.47200 5401676.98600
NATION: US
NATION: "SCIENCE
STATE: MT
NW_QUAD_CORNER_XY: 642418.03000 5401475.81700
NE_QUAD_CORNER_XY: 647011.92100 5401594.54300
SE_QUAD_CORNERY_XY: 647194.22500 5394647.59900
SW_QUAD_CORNER_XY: 642594.63300 5394528.83900
SECONDARY_NW_QUAD_XY: 642422.58100 5401256.87700
SECONDARY_NE_QUAD_XY: 647016.62000 5401375.60600
SECONDARY_SE_QUAD_XY: 647198.92300 5394428.66800
SECONDARY_SW_QUAD_XY: 642599.18400 5394309.90400
RMSE_XY: 0.80000
IMAGE_SOURCE: BLACK AND WHITE FILM
SOURCE_IMAGE_ID: NAPP 9145 163
SOURCE_IMAGE_DATE: 1996 08 25
SOURCE_DEM_DATE: 1975 00 00
AGENCY: WESTERN MAPPING CENTER (WMC)
PRODUCER: UNDEFINED
PRODUCTION_SYSTEM: GIS/MAGIC
COMPRESSION: UNDEFINED
STANDARD_VERSION: 1996 12
METADATA_DATE: 2000 11 29
DATA_FILE_SIZE: 41668872
BYTE_COUNT: 5432
