FILENAME: O4810923.NES.1115703.tif
QUADRANGLE_NAME: RABBIT HILLS
QUADRANT: NE
WEST_LONGITUDE: -109 11 15.00000
EAST_LONGITUDE: -109 7 30.00000
NORTH_LATITUDE: 48 45 0.00000
SOUTH_LATITUDE: 48 41 15.00000
PRODUCTION_DATE: 2000 10 30
RASTER_ORDER: LEFT_RIGHT/TOP_BOTTOM
BAND_ORGANIZATION: SINGLE FILE
BAND_CONTENT: BLACK&WHITE
BAND_CONTENT: UNDEFINED
BAND_CONTENT: UNDEFINED
BITS_PER_PIXEL: 8
SAMPLES_AND_LINES: 5422 7662
HORIZONTAL_DATUM: NAD83
HORIZONTAL_COORDINATE_SYSTEM: UTM
COORDINATE_ZONE: 12
HORIZONTAL_UNITS: METERS
HORIZONTAL_RESOLUTION: 1.00000
SECONDARY_HORIZONTAL_DATUM: NAD27
XY_ORIGIN: 632875.00000 5401661.00000
SECONDARY_XY_ORIGIN: 632932.59900 5401442.82700
NATION: US
NATION: "SCIENCE
STATE: MT
NW_QUAD_CORNER_XY: 633230.18100 5401249.67900
NE_QUAD_CORNER_XY: 637824.11600 5401360.86200
SE_QUAD_CORNERY_XY: 637995.01900 5394413.85200
SW_QUAD_CORNER_XY: 633395.38400 5394302.63800
SECONDARY_NW_QUAD_XY: 633234.43800 5401030.73100
SECONDARY_NE_QUAD_XY: 637828.52000 5401141.91800
SECONDARY_SE_QUAD_XY: 637999.42300 5394194.91400
SECONDARY_SW_QUAD_XY: 633399.64100 5394083.69500
RMSE_XY: 1.10000
IMAGE_SOURCE: BLACK AND WHITE FILM
SOURCE_IMAGE_ID: NAPP 9130 010
SOURCE_IMAGE_DATE: 1996 07 27
SOURCE_DEM_DATE: 1993 00 00
AGENCY: WESTERN MAPPING CENTER (WMC)
PRODUCER: UNDEFINED
PRODUCTION_SYSTEM: GIS/MAGIC
COMPRESSION: UNDEFINED
STANDARD_VERSION: 1996 12
METADATA_DATE: 2000 11 10
DATA_FILE_SIZE: 41548786
BYTE_COUNT: 5422
