FILENAME: O4810923.SWS.1115706.tif
QUADRANGLE_NAME: RABBIT HILLS
QUADRANT: SW
WEST_LONGITUDE: -109 15 0.00000
EAST_LONGITUDE: -109 11 15.00000
NORTH_LATITUDE: 48 41 15.00000
SOUTH_LATITUDE: 48 37 30.00000
PRODUCTION_DATE: 2000 10 30
RASTER_ORDER: LEFT_RIGHT/TOP_BOTTOM
BAND_ORGANIZATION: SINGLE FILE
BAND_CONTENT: BLACK&WHITE
BAND_CONTENT: UNDEFINED
BAND_CONTENT: UNDEFINED
BITS_PER_PIXEL: 8
SAMPLES_AND_LINES: 5421 7658
HORIZONTAL_DATUM: NAD83
HORIZONTAL_COORDINATE_SYSTEM: UTM
COORDINATE_ZONE: 12
HORIZONTAL_UNITS: METERS
HORIZONTAL_RESOLUTION: 1.00000
SECONDARY_HORIZONTAL_DATUM: NAD27
XY_ORIGIN: 628441.00000 5394603.00000
SECONDARY_XY_ORIGIN: 628498.77300 5394384.95300
NATION: US
NATION: "SCIENCE
STATE: MT
NW_QUAD_CORNER_XY: 628795.72800 5394195.19500
NE_QUAD_CORNER_XY: 633395.38400 5394302.63800
SE_QUAD_CORNERY_XY: 633560.42700 5387355.66500
SW_QUAD_CORNER_XY: 628955.07700 5387248.19200
SECONDARY_NW_QUAD_XY: 628799.83900 5393976.24900
SECONDARY_NE_QUAD_XY: 633399.64100 5394083.69500
SECONDARY_SE_QUAD_XY: 633564.68400 5387136.72800
SECONDARY_SW_QUAD_XY: 628959.18800 5387029.25200
RMSE_XY: 1.70000
IMAGE_SOURCE: BLACK AND WHITE FILM
SOURCE_IMAGE_ID: NAPP 9145 052
SOURCE_IMAGE_DATE: 1996 08 25
SOURCE_DEM_DATE: 1993 00 00
AGENCY: WESTERN MAPPING CENTER (WMC)
PRODUCER: UNDEFINED
PRODUCTION_SYSTEM: GIS/MAGIC
COMPRESSION: UNDEFINED
STANDARD_VERSION: 1996 12
METADATA_DATE: 2000 11 10
DATA_FILE_SIZE: 41519439
BYTE_COUNT: 5421
