FILENAME: O4810922.SWS.1115686.tif
QUADRANGLE_NAME: TELESCOPE COULEE
QUADRANT: SW
WEST_LONGITUDE: -109 22 30.00000
EAST_LONGITUDE: -109 18 45.00000
NORTH_LATITUDE: 48 41 15.00000
SOUTH_LATITUDE: 48 37 30.00000
PRODUCTION_DATE: 2000 10 30
RASTER_ORDER: LEFT_RIGHT/TOP_BOTTOM
BAND_ORGANIZATION: SINGLE FILE
BAND_CONTENT: BLACK&WHITE
BAND_CONTENT: UNDEFINED
BAND_CONTENT: UNDEFINED
BITS_PER_PIXEL: 8
SAMPLES_AND_LINES: 5410 7651
HORIZONTAL_DATUM: NAD83
HORIZONTAL_COORDINATE_SYSTEM: UTM
COORDINATE_ZONE: 12
HORIZONTAL_UNITS: METERS
HORIZONTAL_RESOLUTION: 1.00000
SECONDARY_HORIZONTAL_DATUM: NAD27
XY_ORIGIN: 619241.00000 5394392.00000
SECONDARY_XY_ORIGIN: 619299.03200 5394173.83900
NATION: US
NATION: "SCIENCE
STATE: MT
NW_QUAD_CORNER_XY: 619596.36000 5393991.62400
NE_QUAD_CORNER_XY: 624196.05300 5394091.52400
SE_QUAD_CORNERY_XY: 624349.70900 5387144.49200
SW_QUAD_CORNER_XY: 619744.32100 5387044.56500
SECONDARY_NW_QUAD_XY: 619600.17700 5393772.67200
SECONDARY_NE_QUAD_XY: 624200.01700 5393872.57500
SECONDARY_SE_QUAD_XY: 624353.67200 5386925.54900
SECONDARY_SW_QUAD_XY: 619748.13800 5386825.61900
RMSE_XY: 1.40000
IMAGE_SOURCE: BLACK AND WHITE FILM
SOURCE_IMAGE_ID: NAPP 9156 097
SOURCE_IMAGE_DATE: 1997 08 29
SOURCE_DEM_DATE: 1993 00 00
AGENCY: WESTERN MAPPING CENTER (WMC)
PRODUCER: UNDEFINED
PRODUCTION_SYSTEM: GIS/MAGIC
COMPRESSION: UNDEFINED
STANDARD_VERSION: 1996 12
METADATA_DATE: 2000 11 10
DATA_FILE_SIZE: 41397320
BYTE_COUNT: 5410
