FILENAME: O4810921.SWS.1119827.tif
QUADRANGLE_NAME: RESERVOIR COULEE
QUADRANT: SW
WEST_LONGITUDE: -109 30 0.00000
EAST_LONGITUDE: -109 26 15.00000
NORTH_LATITUDE: 48 41 15.00000
SOUTH_LATITUDE: 48 37 30.00000
PRODUCTION_DATE: 2000 10 17
RASTER_ORDER: LEFT_RIGHT/TOP_BOTTOM
BAND_ORGANIZATION: SINGLE FILE
BAND_CONTENT: BLACK&WHITE
BAND_CONTENT: UNDEFINED
BAND_CONTENT: UNDEFINED
BITS_PER_PIXEL: 8
SAMPLES_AND_LINES: 5399 7643
HORIZONTAL_DATUM: NAD83
HORIZONTAL_COORDINATE_SYSTEM: UTM
COORDINATE_ZONE: 12
HORIZONTAL_UNITS: METERS
HORIZONTAL_RESOLUTION: 1.00000
SECONDARY_HORIZONTAL_DATUM: NAD27
XY_ORIGIN: 610041.00000 5394196.00000
SECONDARY_XY_ORIGIN: 610099.28500 5393977.72700
NATION: US
NATION: "SCIENCE
STATE: MT
NW_QUAD_CORNER_XY: 610396.91800 5393803.13900
NE_QUAD_CORNER_XY: 614996.64800 5393895.49600
SE_QUAD_CORNERY_XY: 615138.91600 5386948.41000
SW_QUAD_CORNER_XY: 610533.49400 5386856.02800
SECONDARY_NW_QUAD_XY: 610400.44200 5393584.18100
SECONDARY_NE_QUAD_XY: 615000.31800 5393676.54100
SECONDARY_SE_QUAD_XY: 615142.58700 5386729.46100
SECONDARY_SW_QUAD_XY: 610537.01700 5386637.07500
RMSE_XY: 2.20000
IMAGE_SOURCE: BLACK AND WHITE FILM
SOURCE_IMAGE_ID: NAPP 9159 055
SOURCE_IMAGE_DATE: 1997 09 22
SOURCE_DEM_DATE: 1993 00 00
AGENCY: WESTERN MAPPING CENTER (WMC)
PRODUCER: UNDEFINED
PRODUCTION_SYSTEM: GIS/MAGIC
COMPRESSION: UNDEFINED
STANDARD_VERSION: 1996 12
METADATA_DATE: 2000 11 09
DATA_FILE_SIZE: 41269956
BYTE_COUNT: 5399
