FILENAME: O4810920.SES.1119788.tif
QUADRANGLE_NAME: HAVRE NE
QUADRANT: SE
WEST_LONGITUDE: -109 33 45.00000
EAST_LONGITUDE: -109 30 0.00000
NORTH_LATITUDE: 48 41 15.00000
SOUTH_LATITUDE: 48 37 30.00000
PRODUCTION_DATE: 2000 10 25
RASTER_ORDER: LEFT_RIGHT/TOP_BOTTOM
BAND_ORGANIZATION: SINGLE FILE
BAND_CONTENT: BLACK&WHITE
BAND_CONTENT: UNDEFINED
BAND_CONTENT: UNDEFINED
BITS_PER_PIXEL: 8
SAMPLES_AND_LINES: 5394 7640
HORIZONTAL_DATUM: NAD83
HORIZONTAL_COORDINATE_SYSTEM: UTM
COORDINATE_ZONE: 12
HORIZONTAL_UNITS: METERS
HORIZONTAL_RESOLUTION: 1.00000
SECONDARY_HORIZONTAL_DATUM: NAD27
XY_ORIGIN: 605441.00000 5394104.00000
SECONDARY_XY_ORIGIN: 605499.37200 5393885.73500
NATION: US
NATION: "SCIENCE
STATE: MT
NW_QUAD_CORNER_XY: 605797.17200 5393714.55400
NE_QUAD_CORNER_XY: 610396.91800 5393803.13900
SE_QUAD_CORNERY_XY: 610533.49400 5386856.02800
SW_QUAD_CORNER_XY: 605928.05500 5386767.41800
SECONDARY_NW_QUAD_XY: 605800.54900 5393495.59200
SECONDARY_NE_QUAD_XY: 610400.44200 5393584.18100
SECONDARY_SE_QUAD_XY: 610537.01700 5386637.07500
SECONDARY_SW_QUAD_XY: 605931.43200 5386548.46200
RMSE_XY: 1.90000
IMAGE_SOURCE: BLACK AND WHITE FILM
SOURCE_IMAGE_ID: NAPP 9159 080
SOURCE_IMAGE_DATE: 1997 09 22
SOURCE_DEM_DATE: 1993 00 00
AGENCY: WESTERN MAPPING CENTER (WMC)
PRODUCER: UNDEFINED
PRODUCTION_SYSTEM: GIS/MAGIC
COMPRESSION: UNDEFINED
STANDARD_VERSION: 1996 12
METADATA_DATE: 2000 11 09
DATA_FILE_SIZE: 41215554
BYTE_COUNT: 5394
