FILENAME: O4810919.NWS.1119774.tif
QUADRANGLE_NAME: HAVRE NW
QUADRANT: NW
WEST_LONGITUDE: -109 45 0.00000
EAST_LONGITUDE: -109 41 15.00000
NORTH_LATITUDE: 48 45 0.00000
SOUTH_LATITUDE: 48 41 15.00000
PRODUCTION_DATE: 2000 10 25
RASTER_ORDER: LEFT_RIGHT/TOP_BOTTOM
BAND_ORGANIZATION: SINGLE FILE
BAND_CONTENT: BLACK&WHITE
BAND_CONTENT: UNDEFINED
BAND_CONTENT: UNDEFINED
BITS_PER_PIXEL: 8
SAMPLES_AND_LINES: 5372 7628
HORIZONTAL_DATUM: NAD83
HORIZONTAL_COORDINATE_SYSTEM: UTM
COORDINATE_ZONE: 12
HORIZONTAL_UNITS: METERS
HORIZONTAL_RESOLUTION: 1.00000
SECONDARY_HORIZONTAL_DATUM: NAD27
XY_ORIGIN: 591527.00000 5400796.00000
SECONDARY_XY_ORIGIN: 591585.49900 5400577.59400
NATION: US
NATION: "SCIENCE
STATE: MT
NW_QUAD_CORNER_XY: 591883.92400 5400418.69600
NE_QUAD_CORNER_XY: 596478.01800 5400495.94800
SE_QUAD_CORNERY_XY: 596597.63300 5393548.69400
SW_QUAD_CORNER_XY: 591997.84100 5393471.42100
SECONDARY_NW_QUAD_XY: 591886.86000 5400199.72200
SECONDARY_NE_QUAD_XY: 596481.10100 5400276.97700
SECONDARY_SE_QUAD_XY: 596600.71600 5393329.72800
SECONDARY_SW_QUAD_XY: 592000.77700 5393252.45200
RMSE_XY: 1.80000
IMAGE_SOURCE: BLACK AND WHITE FILM
SOURCE_IMAGE_ID: NAPP 9160 069
SOURCE_IMAGE_DATE: 1997 09 23
SOURCE_DEM_DATE: 1963 00 00
AGENCY: WESTERN MAPPING CENTER (WMC)
PRODUCER: UNDEFINED
PRODUCTION_SYSTEM: GIS/MAGIC
COMPRESSION: UNDEFINED
STANDARD_VERSION: 1996 12
METADATA_DATE: 2000 12 21
DATA_FILE_SIZE: 40982988
BYTE_COUNT: 5372
