FILENAME: O4810919.SES.1119775.tif
QUADRANGLE_NAME: HAVRE NW
QUADRANT: SE
WEST_LONGITUDE: -109 41 15.00000
EAST_LONGITUDE: -109 37 30.00000
NORTH_LATITUDE: 48 41 15.00000
SOUTH_LATITUDE: 48 37 30.00000
PRODUCTION_DATE: 2000 10 25
RASTER_ORDER: LEFT_RIGHT/TOP_BOTTOM
BAND_ORGANIZATION: SINGLE FILE
BAND_CONTENT: BLACK&WHITE
BAND_CONTENT: UNDEFINED
BAND_CONTENT: UNDEFINED
BITS_PER_PIXEL: 8
SAMPLES_AND_LINES: 5383 7632
HORIZONTAL_DATUM: NAD83
HORIZONTAL_COORDINATE_SYSTEM: UTM
COORDINATE_ZONE: 12
HORIZONTAL_UNITS: METERS
HORIZONTAL_RESOLUTION: 1.00000
SECONDARY_HORIZONTAL_DATUM: NAD27
XY_ORIGIN: 596241.00000 5393930.00000
SECONDARY_XY_ORIGIN: 596299.54900 5393711.74600
NATION: US
NATION: "SCIENCE
STATE: MT
NW_QUAD_CORNER_XY: 596597.63300 5393548.69400
NE_QUAD_CORNER_XY: 601197.41000 5393629.73900
SE_QUAD_CORNERY_XY: 601322.60100 5386682.57900
SW_QUAD_CORNER_XY: 596717.13100 5386601.51200
SECONDARY_NW_QUAD_XY: 596600.71600 5393329.72800
SECONDARY_NE_QUAD_XY: 601200.64000 5393410.77500
SECONDARY_SE_QUAD_XY: 601325.83100 5386463.62100
SECONDARY_SW_QUAD_XY: 596720.21400 5386382.55200
RMSE_XY: 1.10000
IMAGE_SOURCE: BLACK AND WHITE FILM
SOURCE_IMAGE_ID: NAPP 9159 196
SOURCE_IMAGE_DATE: 1997 09 22
SOURCE_DEM_DATE: 1963 00 00
AGENCY: WESTERN MAPPING CENTER (WMC)
PRODUCER: UNDEFINED
PRODUCTION_SYSTEM: GIS/MAGIC
COMPRESSION: UNDEFINED
STANDARD_VERSION: 1996 12
METADATA_DATE: 2000 12 21
DATA_FILE_SIZE: 41088439
BYTE_COUNT: 5383
