FILENAME: O4810918.NES.1119733.tif
QUADRANGLE_NAME: QUIGLEY COULEE
QUADRANT: NE
WEST_LONGITUDE: -109 48 45.00000
EAST_LONGITUDE: -109 45 0.00000
NORTH_LATITUDE: 48 45 0.00000
SOUTH_LATITUDE: 48 41 15.00000
PRODUCTION_DATE: 2000 10 25
RASTER_ORDER: LEFT_RIGHT/TOP_BOTTOM
BAND_ORGANIZATION: SINGLE FILE
BAND_CONTENT: BLACK&WHITE
BAND_CONTENT: UNDEFINED
BAND_CONTENT: UNDEFINED
BITS_PER_PIXEL: 8
SAMPLES_AND_LINES: 5366 7624
HORIZONTAL_DATUM: NAD83
HORIZONTAL_COORDINATE_SYSTEM: UTM
COORDINATE_ZONE: 12
HORIZONTAL_UNITS: METERS
HORIZONTAL_RESOLUTION: 1.00000
SECONDARY_HORIZONTAL_DATUM: NAD27
XY_ORIGIN: 586933.00000 5400719.00000
SECONDARY_XY_ORIGIN: 586991.46300 5400500.59100
NATION: US
NATION: "SCIENCE
STATE: MT
NW_QUAD_CORNER_XY: 587289.81500 5400345.21400
NE_QUAD_CORNER_XY: 591883.92400 5400418.69600
SE_QUAD_CORNERY_XY: 591997.84100 5393471.42100
SW_QUAD_CORNER_XY: 587398.03500 5393397.91800
SECONDARY_NW_QUAD_XY: 587292.60400 5400126.23700
SECONDARY_NE_QUAD_XY: 591886.86000 5400199.72200
SECONDARY_SE_QUAD_XY: 592000.77700 5393252.45200
SECONDARY_SW_QUAD_XY: 587400.82400 5393178.94600
RMSE_XY: 0.80000
IMAGE_SOURCE: BLACK AND WHITE FILM
SOURCE_IMAGE_ID: NAPP 9128 109
SOURCE_IMAGE_DATE: 1996 07 29
SOURCE_DEM_DATE: 1969 00 00
AGENCY: WESTERN MAPPING CENTER (WMC)
PRODUCER: UNDEFINED
PRODUCTION_SYSTEM: GIS/MAGIC
COMPRESSION: UNDEFINED
STANDARD_VERSION: 1996 12
METADATA_DATE: 2000 11 09
DATA_FILE_SIZE: 40915750
BYTE_COUNT: 5366
