FILENAME: O4810916.NES.1115743.tif
QUADRANGLE_NAME: RICHMOND RESERVOIR
QUADRANT: NE
WEST_LONGITUDE: -109 3 45.00000
EAST_LONGITUDE: -109 0 0.00000
NORTH_LATITUDE: 48 52 30.00000
SOUTH_LATITUDE: 48 48 45.00000
PRODUCTION_DATE: 2000 10 30
RASTER_ORDER: LEFT_RIGHT/TOP_BOTTOM
BAND_ORGANIZATION: SINGLE FILE
BAND_CONTENT: BLACK&WHITE
BAND_CONTENT: UNDEFINED
BAND_CONTENT: UNDEFINED
BITS_PER_PIXEL: 8
SAMPLES_AND_LINES: 5421 7669
HORIZONTAL_DATUM: NAD83
HORIZONTAL_COORDINATE_SYSTEM: UTM
COORDINATE_ZONE: 12
HORIZONTAL_UNITS: METERS
HORIZONTAL_RESOLUTION: 1.00000
SECONDARY_HORIZONTAL_DATUM: NAD27
XY_ORIGIN: 641710.00000 5415789.00000
SECONDARY_XY_ORIGIN: 641767.05000 5415570.54000
NATION: US
NATION: "SCIENCE
STATE: MT
NW_QUAD_CORNER_XY: 642064.31100 5415369.97300
NE_QUAD_CORNER_XY: 646646.78500 5415488.63000
SE_QUAD_CORNERY_XY: 646829.44100 5408541.55300
SW_QUAD_CORNER_XY: 642241.25600 5408422.86100
SECONDARY_NW_QUAD_XY: 642068.86300 5415151.02500
SECONDARY_NE_QUAD_XY: 646651.48400 5415269.68600
SECONDARY_SE_QUAD_XY: 646834.14000 5408322.61300
SECONDARY_SW_QUAD_XY: 642245.80700 5408203.91700
RMSE_XY: 0.60000
IMAGE_SOURCE: BLACK AND WHITE FILM
SOURCE_IMAGE_ID: NAPP 9145 167
SOURCE_IMAGE_DATE: 1996 08 25
SOURCE_DEM_DATE: 1975 00 00
AGENCY: WESTERN MAPPING CENTER (WMC)
PRODUCER: UNDEFINED
PRODUCTION_SYSTEM: GIS/MAGIC
COMPRESSION: UNDEFINED
STANDARD_VERSION: 1996 12
METADATA_DATE: 2000 11 29
DATA_FILE_SIZE: 41579070
BYTE_COUNT: 5421
