FILENAME: O4810916.NWS.1115744.tif
QUADRANGLE_NAME: RICHMOND RESERVOIR
QUADRANT: NW
WEST_LONGITUDE: -109 7 30.00000
EAST_LONGITUDE: -109 3 45.00000
NORTH_LATITUDE: 48 52 30.00000
SOUTH_LATITUDE: 48 48 45.00000
PRODUCTION_DATE: 2000 10 30
RASTER_ORDER: LEFT_RIGHT/TOP_BOTTOM
BAND_ORGANIZATION: SINGLE FILE
BAND_CONTENT: BLACK&WHITE
BAND_CONTENT: UNDEFINED
BAND_CONTENT: UNDEFINED
BITS_PER_PIXEL: 8
SAMPLES_AND_LINES: 5415 7665
HORIZONTAL_DATUM: NAD83
HORIZONTAL_COORDINATE_SYSTEM: UTM
COORDINATE_ZONE: 12
HORIZONTAL_UNITS: METERS
HORIZONTAL_RESOLUTION: 1.00000
SECONDARY_HORIZONTAL_DATUM: NAD27
XY_ORIGIN: 637128.00000 5415670.00000
SECONDARY_XY_ORIGIN: 637185.14200 5415451.46900
NATION: US
NATION: "SCIENCE
STATE: MT
NW_QUAD_CORNER_XY: 637481.81400 5415255.08500
NE_QUAD_CORNER_XY: 642064.31100 5415369.97300
SE_QUAD_CORNERY_XY: 642241.25600 5408422.86100
SW_QUAD_CORNER_XY: 637653.04700 5408307.94000
SECONDARY_NW_QUAD_XY: 637486.21900 5415036.13300
SECONDARY_NE_QUAD_XY: 642068.86300 5415151.02500
SECONDARY_SE_QUAD_XY: 642245.80700 5408203.91700
SECONDARY_SW_QUAD_XY: 637657.45200 5408088.99200
RMSE_XY: 0.70000
IMAGE_SOURCE: BLACK AND WHITE FILM
SOURCE_IMAGE_ID: NAPP 9145 152
SOURCE_IMAGE_DATE: 1996 08 25
SOURCE_DEM_DATE: 1975 00 00
AGENCY: WESTERN MAPPING CENTER (WMC)
PRODUCER: UNDEFINED
PRODUCTION_SYSTEM: GIS/MAGIC
COMPRESSION: UNDEFINED
STANDARD_VERSION: 1996 12
METADATA_DATE: 2000 11 29
DATA_FILE_SIZE: 41511390
BYTE_COUNT: 5415
