FILENAME: O4810915.NES.1115719.tif
QUADRANGLE_NAME: RICHMOND RESERVOIR SW
QUADRANT: NE
WEST_LONGITUDE: -109 11 15.00000
EAST_LONGITUDE: -109 7 30.00000
NORTH_LATITUDE: 48 52 30.00000
SOUTH_LATITUDE: 48 48 45.00000
PRODUCTION_DATE: 2000 10 30
RASTER_ORDER: LEFT_RIGHT/TOP_BOTTOM
BAND_ORGANIZATION: SINGLE FILE
BAND_CONTENT: BLACK&WHITE
BAND_CONTENT: UNDEFINED
BAND_CONTENT: UNDEFINED
BITS_PER_PIXEL: 8
SAMPLES_AND_LINES: 5410 7662
HORIZONTAL_DATUM: NAD83
HORIZONTAL_COORDINATE_SYSTEM: UTM
COORDINATE_ZONE: 12
HORIZONTAL_UNITS: METERS
HORIZONTAL_RESOLUTION: 1.00000
SECONDARY_HORIZONTAL_DATUM: NAD27
XY_ORIGIN: 632545.00000 5415556.00000
SECONDARY_XY_ORIGIN: 632602.23400 5415337.39800
NATION: US
NATION: "SCIENCE
STATE: MT
NW_QUAD_CORNER_XY: 632899.29500 5415143.96600
NE_QUAD_CORNER_XY: 637481.81400 5415255.08500
SE_QUAD_CORNERY_XY: 637653.04700 5408307.94000
SW_QUAD_CORNER_XY: 633064.81800 5408196.78800
SECONDARY_NW_QUAD_XY: 632903.55300 5414925.01100
SECONDARY_NE_QUAD_XY: 637486.21900 5415036.13300
SECONDARY_SE_QUAD_XY: 637657.45200 5408088.99200
SECONDARY_SW_QUAD_XY: 633069.07500 5407977.83700
RMSE_XY: 0.90000
IMAGE_SOURCE: BLACK AND WHITE FILM
SOURCE_IMAGE_ID: NAPP 9145 139
SOURCE_IMAGE_DATE: 1996 08 25
SOURCE_DEM_DATE: 1993 00 00
AGENCY: WESTERN MAPPING CENTER (WMC)
PRODUCER: UNDEFINED
PRODUCTION_SYSTEM: GIS/MAGIC
COMPRESSION: UNDEFINED
STANDARD_VERSION: 1996 12
METADATA_DATE: 2000 11 29
DATA_FILE_SIZE: 41456830
BYTE_COUNT: 5410
