FILENAME: O4810915.NWS.1115720.tif
QUADRANGLE_NAME: RICHMOND RESERVOIR SW
QUADRANT: NW
WEST_LONGITUDE: -109 15 0.00000
EAST_LONGITUDE: -109 11 15.00000
NORTH_LATITUDE: 48 52 30.00000
SOUTH_LATITUDE: 48 48 45.00000
PRODUCTION_DATE: 2000 10 30
RASTER_ORDER: LEFT_RIGHT/TOP_BOTTOM
BAND_ORGANIZATION: SINGLE FILE
BAND_CONTENT: BLACK&WHITE
BAND_CONTENT: UNDEFINED
BAND_CONTENT: UNDEFINED
BITS_PER_PIXEL: 8
SAMPLES_AND_LINES: 5404 7658
HORIZONTAL_DATUM: NAD83
HORIZONTAL_COORDINATE_SYSTEM: UTM
COORDINATE_ZONE: 12
HORIZONTAL_UNITS: METERS
HORIZONTAL_RESOLUTION: 1.00000
SECONDARY_HORIZONTAL_DATUM: NAD27
XY_ORIGIN: 627962.00000 5415444.00000
SECONDARY_XY_ORIGIN: 628019.32600 5415225.32700
NATION: US
NATION: "SCIENCE
STATE: MT
NW_QUAD_CORNER_XY: 628316.75500 5415036.61600
NE_QUAD_CORNER_XY: 632899.29500 5415143.96600
SE_QUAD_CORNERY_XY: 633064.81800 5408196.78800
SW_QUAD_CORNER_XY: 628476.56700 5408089.40700
SECONDARY_NW_QUAD_XY: 628320.86600 5414817.65700
SECONDARY_NE_QUAD_XY: 632903.55300 5414925.01100
SECONDARY_SE_QUAD_XY: 633069.07500 5407977.83700
SECONDARY_SW_QUAD_XY: 628480.67800 5407870.45100
RMSE_XY: 1.40000
IMAGE_SOURCE: BLACK AND WHITE FILM
SOURCE_IMAGE_ID: NAPP 9145 058
SOURCE_IMAGE_DATE: 1996 08 25
SOURCE_DEM_DATE: 1993 00 00
AGENCY: WESTERN MAPPING CENTER (WMC)
PRODUCER: UNDEFINED
PRODUCTION_SYSTEM: GIS/MAGIC
COMPRESSION: UNDEFINED
STANDARD_VERSION: 1996 12
METADATA_DATE: 2000 11 29
DATA_FILE_SIZE: 41389236
BYTE_COUNT: 5404
