FILENAME: O4810915.SES.1115721.tif
QUADRANGLE_NAME: RICHMOND RESERVOIR SW
QUADRANT: SE
WEST_LONGITUDE: -109 11 15.00000
EAST_LONGITUDE: -109 7 30.00000
NORTH_LATITUDE: 48 48 45.00000
SOUTH_LATITUDE: 48 45 0.00000
PRODUCTION_DATE: 2000 10 30
RASTER_ORDER: LEFT_RIGHT/TOP_BOTTOM
BAND_ORGANIZATION: SINGLE FILE
BAND_CONTENT: BLACK&WHITE
BAND_CONTENT: UNDEFINED
BAND_CONTENT: UNDEFINED
BITS_PER_PIXEL: 8
SAMPLES_AND_LINES: 5416 7662
HORIZONTAL_DATUM: NAD83
HORIZONTAL_COORDINATE_SYSTEM: UTM
COORDINATE_ZONE: 12
HORIZONTAL_UNITS: METERS
HORIZONTAL_RESOLUTION: 1.00000
SECONDARY_HORIZONTAL_DATUM: NAD27
XY_ORIGIN: 632710.00000 5408608.00000
SECONDARY_XY_ORIGIN: 632767.41300 5408389.61000
NATION: US
NATION: "SCIENCE
STATE: MT
NW_QUAD_CORNER_XY: 633064.81800 5408196.78800
NE_QUAD_CORNER_XY: 637653.04700 5408307.94000
SE_QUAD_CORNERY_XY: 637824.11600 5401360.86200
SW_QUAD_CORNER_XY: 633230.18100 5401249.67900
SECONDARY_NW_QUAD_XY: 633069.07500 5407977.83700
SECONDARY_NE_QUAD_XY: 637657.45200 5408088.99200
SECONDARY_SE_QUAD_XY: 637828.52000 5401141.91800
SECONDARY_SW_QUAD_XY: 633234.43800 5401030.73100
RMSE_XY: 1.20000
IMAGE_SOURCE: BLACK AND WHITE FILM
SOURCE_IMAGE_ID: NAPP 9145 137
SOURCE_IMAGE_DATE: 1996 08 25
SOURCE_DEM_DATE: 1993 00 00
AGENCY: WESTERN MAPPING CENTER (WMC)
PRODUCER: UNDEFINED
PRODUCTION_SYSTEM: GIS/MAGIC
COMPRESSION: UNDEFINED
STANDARD_VERSION: 1996 12
METADATA_DATE: 2000 11 29
DATA_FILE_SIZE: 41502808
BYTE_COUNT: 5416
