FILENAME: O4810914.NES.1115679.tif
QUADRANGLE_NAME: NORTH CHINOOK RESERVOIR
QUADRANT: NE
WEST_LONGITUDE: -109 18 45.00000
EAST_LONGITUDE: -109 15 0.00000
NORTH_LATITUDE: 48 52 30.00000
SOUTH_LATITUDE: 48 48 45.00000
PRODUCTION_DATE: 2000 10 30
RASTER_ORDER: LEFT_RIGHT/TOP_BOTTOM
BAND_ORGANIZATION: SINGLE FILE
BAND_CONTENT: BLACK&WHITE
BAND_CONTENT: UNDEFINED
BAND_CONTENT: UNDEFINED
BITS_PER_PIXEL: 8
SAMPLES_AND_LINES: 5399 7654
HORIZONTAL_DATUM: NAD83
HORIZONTAL_COORDINATE_SYSTEM: UTM
COORDINATE_ZONE: 12
HORIZONTAL_UNITS: METERS
HORIZONTAL_RESOLUTION: 1.00000
SECONDARY_HORIZONTAL_DATUM: NAD27
XY_ORIGIN: 623379.00000 5415337.00000
SECONDARY_XY_ORIGIN: 623436.45100 5415118.32300
NATION: US
NATION: "SCIENCE
STATE: MT
NW_QUAD_CORNER_XY: 623734.19500 5414933.03400
NE_QUAD_CORNER_XY: 628316.75500 5415036.61600
SE_QUAD_CORNERY_XY: 628476.56700 5408089.40700
SW_QUAD_CORNER_XY: 623888.29600 5407985.79500
SECONDARY_NW_QUAD_XY: 623738.15900 5414714.07200
SECONDARY_NE_QUAD_XY: 628320.86600 5414817.65700
SECONDARY_SE_QUAD_XY: 628480.67800 5407870.45100
SECONDARY_SW_QUAD_XY: 623892.26000 5407766.83600
RMSE_XY: 1.80000
IMAGE_SOURCE: BLACK AND WHITE FILM
SOURCE_IMAGE_ID: NAPP 9145 071
SOURCE_IMAGE_DATE: 1996 08 25
SOURCE_DEM_DATE: 1993 00 00
AGENCY: WESTERN MAPPING CENTER (WMC)
PRODUCER: UNDEFINED
PRODUCTION_SYSTEM: GIS/MAGIC
COMPRESSION: UNDEFINED
STANDARD_VERSION: 1996 12
METADATA_DATE: 2000 11 10
DATA_FILE_SIZE: 41329345
BYTE_COUNT: 5399
