FILENAME: O4810914.NWS.1115680.tif
QUADRANGLE_NAME: NORTH CHINOOK RESERVOIR
QUADRANT: NW
WEST_LONGITUDE: -109 22 30.00000
EAST_LONGITUDE: -109 18 45.00000
NORTH_LATITUDE: 48 52 30.00000
SOUTH_LATITUDE: 48 48 45.00000
PRODUCTION_DATE: 2000 10 30
RASTER_ORDER: LEFT_RIGHT/TOP_BOTTOM
BAND_ORGANIZATION: SINGLE FILE
BAND_CONTENT: BLACK&WHITE
BAND_CONTENT: UNDEFINED
BAND_CONTENT: UNDEFINED
BITS_PER_PIXEL: 8
SAMPLES_AND_LINES: 5394 7651
HORIZONTAL_DATUM: NAD83
HORIZONTAL_COORDINATE_SYSTEM: UTM
COORDINATE_ZONE: 12
HORIZONTAL_UNITS: METERS
HORIZONTAL_RESOLUTION: 1.00000
SECONDARY_HORIZONTAL_DATUM: NAD27
XY_ORIGIN: 618796.00000 5415234.00000
SECONDARY_XY_ORIGIN: 618853.56900 5415015.32100
NATION: US
NATION: "SCIENCE
STATE: MT
NW_QUAD_CORNER_XY: 619151.61400 5414833.22000
NE_QUAD_CORNER_XY: 623734.19500 5414933.03400
SE_QUAD_CORNERY_XY: 623888.29600 5407985.79500
SW_QUAD_CORNER_XY: 619300.00600 5407885.95200
SECONDARY_NW_QUAD_XY: 619155.43200 5414614.25500
SECONDARY_NE_QUAD_XY: 623738.15900 5414714.07200
SECONDARY_SE_QUAD_XY: 623892.26000 5407766.83600
SECONDARY_SW_QUAD_XY: 619303.82300 5407666.99000
RMSE_XY: 2.40000
IMAGE_SOURCE: BLACK AND WHITE FILM
SOURCE_IMAGE_ID: NAPP 9156 103
SOURCE_IMAGE_DATE: 1997 08 29
SOURCE_DEM_DATE: 1993 00 00
AGENCY: WESTERN MAPPING CENTER (WMC)
PRODUCER: UNDEFINED
PRODUCTION_SYSTEM: GIS/MAGIC
COMPRESSION: UNDEFINED
STANDARD_VERSION: 1996 12
METADATA_DATE: 2000 11 10
DATA_FILE_SIZE: 41274888
BYTE_COUNT: 5394
