FILENAME: O4810914.SES.1115681.tif
QUADRANGLE_NAME: NORTH CHINOOK RESERVOIR
QUADRANT: SE
WEST_LONGITUDE: -109 18 45.00000
EAST_LONGITUDE: -109 15 0.00000
NORTH_LATITUDE: 48 48 45.00000
SOUTH_LATITUDE: 48 45 0.00000
PRODUCTION_DATE: 2000 10 30
RASTER_ORDER: LEFT_RIGHT/TOP_BOTTOM
BAND_ORGANIZATION: SINGLE FILE
BAND_CONTENT: BLACK&WHITE
BAND_CONTENT: UNDEFINED
BAND_CONTENT: UNDEFINED
BITS_PER_PIXEL: 8
SAMPLES_AND_LINES: 5405 7655
HORIZONTAL_DATUM: NAD83
HORIZONTAL_COORDINATE_SYSTEM: UTM
COORDINATE_ZONE: 12
HORIZONTAL_UNITS: METERS
HORIZONTAL_RESOLUTION: 1.00000
SECONDARY_HORIZONTAL_DATUM: NAD27
XY_ORIGIN: 623533.00000 5408390.00000
SECONDARY_XY_ORIGIN: 623590.62100 5408171.50600
NATION: US
NATION: "SCIENCE
STATE: MT
NW_QUAD_CORNER_XY: 623888.29600 5407985.79500
NE_QUAD_CORNER_XY: 628476.56700 5408089.40700
SE_QUAD_CORNERY_XY: 628636.22500 5401142.26600
SW_QUAD_CORNER_XY: 624042.24900 5401038.62500
SECONDARY_NW_QUAD_XY: 623892.26000 5407766.83600
SECONDARY_NE_QUAD_XY: 628480.67800 5407870.45100
SECONDARY_SE_QUAD_XY: 628640.33600 5400923.31500
SECONDARY_SW_QUAD_XY: 624046.21300 5400819.67000
RMSE_XY: 1.10000
IMAGE_SOURCE: BLACK AND WHITE FILM
SOURCE_IMAGE_ID: NAPP 9145 073
SOURCE_IMAGE_DATE: 1996 08 25
SOURCE_DEM_DATE: 1993 00 00
AGENCY: WESTERN MAPPING CENTER (WMC)
PRODUCER: UNDEFINED
PRODUCTION_SYSTEM: GIS/MAGIC
COMPRESSION: UNDEFINED
STANDARD_VERSION: 1996 12
METADATA_DATE: 2000 11 10
DATA_FILE_SIZE: 41380680
BYTE_COUNT: 5405
