FILENAME: O4810913.NWS.1119821.tif
QUADRANGLE_NAME: MCLAREN RESERVOIR
QUADRANT: NW
WEST_LONGITUDE: -109 30 0.00000
EAST_LONGITUDE: -109 26 15.00000
NORTH_LATITUDE: 48 52 30.00000
SOUTH_LATITUDE: 48 48 45.00000
PRODUCTION_DATE: 2000 10 17
RASTER_ORDER: LEFT_RIGHT/TOP_BOTTOM
BAND_ORGANIZATION: SINGLE FILE
BAND_CONTENT: BLACK&WHITE
BAND_CONTENT: UNDEFINED
BAND_CONTENT: UNDEFINED
BITS_PER_PIXEL: 8
SAMPLES_AND_LINES: 5382 7643
HORIZONTAL_DATUM: NAD83
HORIZONTAL_COORDINATE_SYSTEM: UTM
COORDINATE_ZONE: 12
HORIZONTAL_UNITS: METERS
HORIZONTAL_RESOLUTION: 1.00000
SECONDARY_HORIZONTAL_DATUM: NAD27
XY_ORIGIN: 609631.00000 5415038.00000
SECONDARY_XY_ORIGIN: 609688.80600 5414819.31600
NATION: US
NATION: "SCIENCE
STATE: MT
NW_QUAD_CORNER_XY: 609986.39700 5414644.89800
NE_QUAD_CORNER_XY: 614569.01500 5414737.17500
SE_QUAD_CORNERY_XY: 614711.69700 5407789.87900
SW_QUAD_CORNER_XY: 610123.37000 5407697.57400
SECONDARY_NW_QUAD_XY: 609989.92100 5414425.92600
SECONDARY_NE_QUAD_XY: 614572.68600 5414518.20700
SECONDARY_SE_QUAD_XY: 614715.36700 5407570.91400
SECONDARY_SW_QUAD_XY: 610126.89400 5407478.60700
RMSE_XY: 1.70000
IMAGE_SOURCE: BLACK AND WHITE FILM
SOURCE_IMAGE_ID: NAPP 9159 061
SOURCE_IMAGE_DATE: 1997 09 22
SOURCE_DEM_DATE: 1993 00 00
AGENCY: WESTERN MAPPING CENTER (WMC)
PRODUCER: UNDEFINED
PRODUCTION_SYSTEM: GIS/MAGIC
COMPRESSION: UNDEFINED
STANDARD_VERSION: 1996 12
METADATA_DATE: 2000 11 09
DATA_FILE_SIZE: 41140008
BYTE_COUNT: 5382
