FILENAME: O4810912.NES.1119802.tif
QUADRANGLE_NAME: LAKE THIBADEAU
QUADRANT: NE
WEST_LONGITUDE: -109 33 45.00000
EAST_LONGITUDE: -109 30 0.00000
NORTH_LATITUDE: 48 52 30.00000
SOUTH_LATITUDE: 48 48 45.00000
PRODUCTION_DATE: 2000 10 25
RASTER_ORDER: LEFT_RIGHT/TOP_BOTTOM
BAND_ORGANIZATION: SINGLE FILE
BAND_CONTENT: BLACK&WHITE
BAND_CONTENT: UNDEFINED
BAND_CONTENT: UNDEFINED
BITS_PER_PIXEL: 8
SAMPLES_AND_LINES: 5377 7639
HORIZONTAL_DATUM: NAD83
HORIZONTAL_COORDINATE_SYSTEM: UTM
COORDINATE_ZONE: 12
HORIZONTAL_UNITS: METERS
HORIZONTAL_RESOLUTION: 1.00000
SECONDARY_HORIZONTAL_DATUM: NAD27
XY_ORIGIN: 605048.00000 5414945.00000
SECONDARY_XY_ORIGIN: 605105.87800 5414726.31800
NATION: US
NATION: "SCIENCE
STATE: MT
NW_QUAD_CORNER_XY: 605403.76200 5414556.38800
NE_QUAD_CORNER_XY: 609986.39700 5414644.89800
SE_QUAD_CORNERY_XY: 610123.37000 5407697.57400
SW_QUAD_CORNER_XY: 605535.02600 5407609.03900
SECONDARY_NW_QUAD_XY: 605407.13900 5414337.41400
SECONDARY_NE_QUAD_XY: 609989.92100 5414425.92600
SECONDARY_SE_QUAD_XY: 610126.89400 5407478.60700
SECONDARY_SW_QUAD_XY: 605538.40200 5407390.06800
RMSE_XY: 1.30000
IMAGE_SOURCE: BLACK AND WHITE FILM
SOURCE_IMAGE_ID: NAPP 9159 074
SOURCE_IMAGE_DATE: 1997 09 22
SOURCE_DEM_DATE: 1993 00 00
AGENCY: WESTERN MAPPING CENTER (WMC)
PRODUCER: UNDEFINED
PRODUCTION_SYSTEM: GIS/MAGIC
COMPRESSION: UNDEFINED
STANDARD_VERSION: 1996 12
METADATA_DATE: 2000 12 21
DATA_FILE_SIZE: 41080280
BYTE_COUNT: 5377
