FILENAME: O4810912.NWS.1119803.tif
QUADRANGLE_NAME: LAKE THIBADEAU
QUADRANT: NW
WEST_LONGITUDE: -109 37 30.00000
EAST_LONGITUDE: -109 33 45.00000
NORTH_LATITUDE: 48 52 30.00000
SOUTH_LATITUDE: 48 48 45.00000
PRODUCTION_DATE: 2000 10 25
RASTER_ORDER: LEFT_RIGHT/TOP_BOTTOM
BAND_ORGANIZATION: SINGLE FILE
BAND_CONTENT: BLACK&WHITE
BAND_CONTENT: UNDEFINED
BAND_CONTENT: UNDEFINED
BITS_PER_PIXEL: 8
SAMPLES_AND_LINES: 5372 7636
HORIZONTAL_DATUM: NAD83
HORIZONTAL_COORDINATE_SYSTEM: UTM
COORDINATE_ZONE: 12
HORIZONTAL_UNITS: METERS
HORIZONTAL_RESOLUTION: 1.00000
SECONDARY_HORIZONTAL_DATUM: NAD27
XY_ORIGIN: 600465.00000 5414857.00000
SECONDARY_XY_ORIGIN: 600522.95300 5414638.30800
NATION: US
NATION: "SCIENCE
STATE: MT
NW_QUAD_CORNER_XY: 600821.11000 5414471.64600
NE_QUAD_CORNER_XY: 605403.76200 5414556.38800
SE_QUAD_CORNERY_XY: 605535.02600 5407609.03900
SW_QUAD_CORNER_XY: 600946.66500 5407524.27200
SECONDARY_NW_QUAD_XY: 600824.34000 5414252.66900
SECONDARY_NE_QUAD_XY: 605407.13900 5414337.41400
SECONDARY_SE_QUAD_XY: 605538.40200 5407390.06800
SECONDARY_SW_QUAD_XY: 600949.89500 5407305.29900
RMSE_XY: 1.10000
IMAGE_SOURCE: BLACK AND WHITE FILM
SOURCE_IMAGE_ID: NAPP 9159 177
SOURCE_IMAGE_DATE: 1997 09 22
SOURCE_DEM_DATE: 1993 00 00
AGENCY: WESTERN MAPPING CENTER (WMC)
PRODUCER: UNDEFINED
PRODUCTION_SYSTEM: GIS/MAGIC
COMPRESSION: UNDEFINED
STANDARD_VERSION: 1996 12
METADATA_DATE: 2000 12 21
DATA_FILE_SIZE: 41025964
BYTE_COUNT: 5372
