FILENAME: O4810911.NWS.1119770.tif
QUADRANGLE_NAME: LAKE THIBADEAU SW
QUADRANT: NW
WEST_LONGITUDE: -109 45 0.00000
EAST_LONGITUDE: -109 41 15.00000
NORTH_LATITUDE: 48 52 30.00000
SOUTH_LATITUDE: 48 48 45.00000
PRODUCTION_DATE: 2000 10 25
RASTER_ORDER: LEFT_RIGHT/TOP_BOTTOM
BAND_ORGANIZATION: SINGLE FILE
BAND_CONTENT: BLACK&WHITE
BAND_CONTENT: UNDEFINED
BAND_CONTENT: UNDEFINED
BITS_PER_PIXEL: 8
SAMPLES_AND_LINES: 5361 7628
HORIZONTAL_DATUM: NAD83
HORIZONTAL_COORDINATE_SYSTEM: UTM
COORDINATE_ZONE: 12
HORIZONTAL_UNITS: METERS
HORIZONTAL_RESOLUTION: 1.00000
SECONDARY_HORIZONTAL_DATUM: NAD27
XY_ORIGIN: 591299.00000 5414691.00000
SECONDARY_XY_ORIGIN: 591357.10300 5414472.28900
NATION: US
NATION: "SCIENCE
STATE: MT
NW_QUAD_CORNER_XY: 591655.75900 5414313.46400
NE_QUAD_CORNER_XY: 596238.44200 5414390.67100
SE_QUAD_CORNERY_XY: 596358.28800 5407443.27400
SW_QUAD_CORNER_XY: 591769.89600 5407366.04400
SECONDARY_NW_QUAD_XY: 591658.69600 5414094.48200
SECONDARY_NE_QUAD_XY: 596241.52600 5414171.69200
SECONDARY_SE_QUAD_XY: 596361.37100 5407224.29800
SECONDARY_SW_QUAD_XY: 591772.83300 5407147.06600
RMSE_XY: 1.90000
IMAGE_SOURCE: BLACK AND WHITE FILM
SOURCE_IMAGE_ID: NAPP 9160 065
SOURCE_IMAGE_DATE: 1997 09 23
SOURCE_DEM_DATE: 1993 00 00
AGENCY: WESTERN MAPPING CENTER (WMC)
PRODUCER: UNDEFINED
PRODUCTION_SYSTEM: GIS/MAGIC
COMPRESSION: UNDEFINED
STANDARD_VERSION: 1996 12
METADATA_DATE: 2000 12 21
DATA_FILE_SIZE: 40899069
BYTE_COUNT: 5361
