FILENAME: O4810910.SES.1119726.tif
QUADRANGLE_NAME: HILLDALE COLONY
QUADRANT: SE
WEST_LONGITUDE: -109 48 45.00000
EAST_LONGITUDE: -109 45 0.00000
NORTH_LATITUDE: 48 48 45.00000
SOUTH_LATITUDE: 48 45 0.00000
PRODUCTION_DATE: 2000 10 25
RASTER_ORDER: LEFT_RIGHT/TOP_BOTTOM
BAND_ORGANIZATION: SINGLE FILE
BAND_CONTENT: BLACK&WHITE
BAND_CONTENT: UNDEFINED
BAND_CONTENT: UNDEFINED
BITS_PER_PIXEL: 8
SAMPLES_AND_LINES: 5361 7625
HORIZONTAL_DATUM: NAD83
HORIZONTAL_COORDINATE_SYSTEM: UTM
COORDINATE_ZONE: 12
HORIZONTAL_UNITS: METERS
HORIZONTAL_RESOLUTION: 1.00000
SECONDARY_HORIZONTAL_DATUM: NAD27
XY_ORIGIN: 586824.00000 5407667.00000
SECONDARY_XY_ORIGIN: 586882.27400 5407448.40700
NATION: US
NATION: "SCIENCE
STATE: MT
NW_QUAD_CORNER_XY: 587181.49000 5407292.58300
NE_QUAD_CORNER_XY: 591769.89600 5407366.04400
SE_QUAD_CORNERY_XY: 591883.92400 5400418.69600
SW_QUAD_CORNER_XY: 587289.81500 5400345.21400
SECONDARY_NW_QUAD_XY: 587184.28000 5407073.60200
SECONDARY_NE_QUAD_XY: 591772.83300 5407147.06600
SECONDARY_SE_QUAD_XY: 591886.86000 5400199.72200
SECONDARY_SW_QUAD_XY: 587292.60400 5400126.23700
RMSE_XY: 1.70000
IMAGE_SOURCE: BLACK AND WHITE FILM
SOURCE_IMAGE_ID: NAPP 9128 107
SOURCE_IMAGE_DATE: 1996 07 29
SOURCE_DEM_DATE: 1993 00 00
AGENCY: WESTERN MAPPING CENTER (WMC)
PRODUCER: UNDEFINED
PRODUCTION_SYSTEM: GIS/MAGIC
COMPRESSION: UNDEFINED
STANDARD_VERSION: 1996 12
METADATA_DATE: 2000 11 30
DATA_FILE_SIZE: 40882986
BYTE_COUNT: 5361
