FILENAME: O4810909.NWS.1115149.tif
QUADRANGLE_NAME: COTTONWOOD
QUADRANT: NW
WEST_LONGITUDE: -110 0 0.00000
EAST_LONGITUDE: -109 56 15.00000
NORTH_LATITUDE: 48 52 30.00000
SOUTH_LATITUDE: 48 48 45.00000
PRODUCTION_DATE: 2000 10 24
RASTER_ORDER: LEFT_RIGHT/TOP_BOTTOM
BAND_ORGANIZATION: SINGLE FILE
BAND_CONTENT: BLACK&WHITE
BAND_CONTENT: UNDEFINED
BAND_CONTENT: UNDEFINED
BITS_PER_PIXEL: 8
SAMPLES_AND_LINES: 5338 7613
HORIZONTAL_DATUM: NAD83
HORIZONTAL_COORDINATE_SYSTEM: UTM
COORDINATE_ZONE: 12
HORIZONTAL_UNITS: METERS
HORIZONTAL_RESOLUTION: 1.00000
SECONDARY_HORIZONTAL_DATUM: NAD27
XY_ORIGIN: 572968.00000 5414405.00000
SECONDARY_XY_ORIGIN: 573026.07800 5414186.00600
NATION: US
NATION: "SCIENCE
STATE: MT
NW_QUAD_CORNER_XY: 573324.88700 5414042.30500
NE_QUAD_CORNER_XY: 577907.62500 5414104.44500
SE_QUAD_CORNERY_XY: 578004.63800 5407156.96400
SW_QUAD_CORNER_XY: 573416.19300 5407094.80600
SECONDARY_NW_QUAD_XY: 573327.23600 5413823.31500
SECONDARY_NE_QUAD_XY: 577910.12100 5413885.45600
SECONDARY_SE_QUAD_XY: 578007.13400 5406937.97900
SECONDARY_SW_QUAD_XY: 573418.54200 5406875.81900
RMSE_XY: 0.80000
IMAGE_SOURCE: BLACK AND WHITE FILM
SOURCE_IMAGE_ID: NAPP 9158 045
SOURCE_IMAGE_DATE: 1997 09 04
SOURCE_DEM_DATE: 1993 00 00
AGENCY: WESTERN MAPPING CENTER (WMC)
PRODUCER: UNDEFINED
PRODUCTION_SYSTEM: GIS/MAGIC
COMPRESSION: UNDEFINED
STANDARD_VERSION: 1996 12
METADATA_DATE: 2000 11 29
DATA_FILE_SIZE: 40643532
BYTE_COUNT: 5338
