FILENAME: O4810909.SES.1115150.tif
QUADRANGLE_NAME: COTTONWOOD
QUADRANT: SE
WEST_LONGITUDE: -109 56 15.00000
EAST_LONGITUDE: -109 52 30.00000
NORTH_LATITUDE: 48 48 45.00000
SOUTH_LATITUDE: 48 45 0.00000
PRODUCTION_DATE: 2000 10 25
RASTER_ORDER: LEFT_RIGHT/TOP_BOTTOM
BAND_ORGANIZATION: SINGLE FILE
BAND_CONTENT: BLACK&WHITE
BAND_CONTENT: UNDEFINED
BAND_CONTENT: UNDEFINED
BITS_PER_PIXEL: 8
SAMPLES_AND_LINES: 5350 7617
HORIZONTAL_DATUM: NAD83
HORIZONTAL_COORDINATE_SYSTEM: UTM
COORDINATE_ZONE: 12
HORIZONTAL_UNITS: METERS
HORIZONTAL_RESOLUTION: 1.00000
SECONDARY_HORIZONTAL_DATUM: NAD27
XY_ORIGIN: 577647.00000 5407523.00000
SECONDARY_XY_ORIGIN: 577705.24500 5407304.32500
NATION: US
NATION: "SCIENCE
STATE: MT
NW_QUAD_CORNER_XY: 578004.63800 5407156.96400
NE_QUAD_CORNER_XY: 582593.07100 5407222.88900
SE_QUAD_CORNERY_XY: 582695.69300 5400275.50000
SW_QUAD_CORNER_XY: 578101.55800 5400209.55600
SECONDARY_NW_QUAD_XY: 578007.13400 5406937.97900
SECONDARY_NE_QUAD_XY: 582595.71300 5407003.90600
SECONDARY_SE_QUAD_XY: 582698.33500 5400056.52200
SECONDARY_SW_QUAD_XY: 578104.05300 5399990.57500
RMSE_XY: 1.30000
IMAGE_SOURCE: BLACK AND WHITE FILM
SOURCE_IMAGE_ID: NAPP 9128 231
SOURCE_IMAGE_DATE: 1996 07 29
SOURCE_DEM_DATE: 1993 00 00
AGENCY: WESTERN MAPPING CENTER (WMC)
PRODUCER: UNDEFINED
PRODUCTION_SYSTEM: GIS/MAGIC
COMPRESSION: UNDEFINED
STANDARD_VERSION: 1996 12
METADATA_DATE: 2000 11 29
DATA_FILE_SIZE: 40756300
BYTE_COUNT: 5350
