FILENAME: O4810908.SES.1115741.tif
QUADRANGLE_NAME: RICHMOND RESERVOIR NE
QUADRANT: SE
WEST_LONGITUDE: -109 3 45.00000
EAST_LONGITUDE: -109 0 0.00000
NORTH_LATITUDE: 48 56 15.00000
SOUTH_LATITUDE: 48 52 30.00000
PRODUCTION_DATE: 2000 10 30
RASTER_ORDER: LEFT_RIGHT/TOP_BOTTOM
BAND_ORGANIZATION: SINGLE FILE
BAND_CONTENT: BLACK&WHITE
BAND_CONTENT: UNDEFINED
BAND_CONTENT: UNDEFINED
BITS_PER_PIXEL: 8
SAMPLES_AND_LINES: 5415 7669
HORIZONTAL_DATUM: NAD83
HORIZONTAL_COORDINATE_SYSTEM: UTM
COORDINATE_ZONE: 12
HORIZONTAL_UNITS: METERS
HORIZONTAL_RESOLUTION: 1.00000
SECONDARY_HORIZONTAL_DATUM: NAD27
XY_ORIGIN: 641533.00000 5422736.00000
SECONDARY_XY_ORIGIN: 641589.84400 5422517.32000
NATION: US
NATION: "SCIENCE
STATE: MT
NW_QUAD_CORNER_XY: 641887.19600 5422317.15200
NE_QUAD_CORNER_XY: 646463.95400 5422435.77400
SE_QUAD_CORNERY_XY: 646646.78500 5415488.63000
SW_QUAD_CORNER_XY: 642064.31100 5415369.97300
SECONDARY_NW_QUAD_XY: 641891.74800 5422098.20100
SECONDARY_NE_QUAD_XY: 646468.65200 5422216.82700
SECONDARY_SE_QUAD_XY: 646651.48400 5415269.68600
SECONDARY_SW_QUAD_XY: 642068.86300 5415151.02500
RMSE_XY: 0.60000
IMAGE_SOURCE: BLACK AND WHITE FILM
SOURCE_IMAGE_ID: NAPP 9145 169
SOURCE_IMAGE_DATE: 1996 08 25
SOURCE_DEM_DATE: 1975 00 00
AGENCY: WESTERN MAPPING CENTER (WMC)
PRODUCER: UNDEFINED
PRODUCTION_SYSTEM: GIS/MAGIC
COMPRESSION: UNDEFINED
STANDARD_VERSION: 1996 12
METADATA_DATE: 2000 11 29
DATA_FILE_SIZE: 41533050
BYTE_COUNT: 5415
