FILENAME: O4810908.SWS.1115742.tif
QUADRANGLE_NAME: RICHMOND RESERVOIR NE
QUADRANT: SW
WEST_LONGITUDE: -109 7 30.00000
EAST_LONGITUDE: -109 3 45.00000
NORTH_LATITUDE: 48 56 15.00000
SOUTH_LATITUDE: 48 52 30.00000
PRODUCTION_DATE: 2000 10 30
RASTER_ORDER: LEFT_RIGHT/TOP_BOTTOM
BAND_ORGANIZATION: SINGLE FILE
BAND_CONTENT: BLACK&WHITE
BAND_CONTENT: UNDEFINED
BAND_CONTENT: UNDEFINED
BITS_PER_PIXEL: 8
SAMPLES_AND_LINES: 5410 7666
HORIZONTAL_DATUM: NAD83
HORIZONTAL_COORDINATE_SYSTEM: UTM
COORDINATE_ZONE: 12
HORIZONTAL_UNITS: METERS
HORIZONTAL_RESOLUTION: 1.00000
SECONDARY_HORIZONTAL_DATUM: NAD27
XY_ORIGIN: 636956.00000 5422618.00000
SECONDARY_XY_ORIGIN: 637012.94900 5422399.25400
NATION: US
NATION: "SCIENCE
STATE: MT
NW_QUAD_CORNER_XY: 637310.41600 5422202.29800
NE_QUAD_CORNER_XY: 641887.19600 5422317.15200
SE_QUAD_CORNERY_XY: 642064.31100 5415369.97300
SW_QUAD_CORNER_XY: 637481.81400 5415255.08500
SECONDARY_NW_QUAD_XY: 637314.82100 5421983.34400
SECONDARY_NE_QUAD_XY: 641891.74800 5422098.20100
SECONDARY_SE_QUAD_XY: 642068.86300 5415151.02500
SECONDARY_SW_QUAD_XY: 637486.21900 5415036.13300
RMSE_XY: 1.60000
IMAGE_SOURCE: BLACK AND WHITE FILM
SOURCE_IMAGE_ID: NAPP 9145 150
SOURCE_IMAGE_DATE: 1996 08 25
SOURCE_DEM_DATE: 1975 00 00
AGENCY: WESTERN MAPPING CENTER (WMC)
PRODUCER: UNDEFINED
PRODUCTION_SYSTEM: GIS/MAGIC
COMPRESSION: UNDEFINED
STANDARD_VERSION: 1996 12
METADATA_DATE: 2000 11 29
DATA_FILE_SIZE: 41478470
BYTE_COUNT: 5410
