FILENAME: O4810906.NWS.1115692.tif
QUADRANGLE_NAME: NORTH CHINOOK RESERVOIR NE
QUADRANT: NW
WEST_LONGITUDE: -109 22 30.00000
EAST_LONGITUDE: -109 18 45.00000
NORTH_LATITUDE: 49 0 0.00000
SOUTH_LATITUDE: 48 56 15.00000
PRODUCTION_DATE: 2000 11 5
RASTER_ORDER: LEFT_RIGHT/TOP_BOTTOM
BAND_ORGANIZATION: SINGLE FILE
BAND_CONTENT: BLACK&WHITE
BAND_CONTENT: UNDEFINED
BAND_CONTENT: UNDEFINED
BITS_PER_PIXEL: 8
SAMPLES_AND_LINES: 5382 7650
HORIZONTAL_DATUM: NAD83
HORIZONTAL_COORDINATE_SYSTEM: UTM
COORDINATE_ZONE: 12
HORIZONTAL_UNITS: METERS
HORIZONTAL_RESOLUTION: 1.00000
SECONDARY_HORIZONTAL_DATUM: NAD27
XY_ORIGIN: 618499.00000 5429128.00000
SECONDARY_XY_ORIGIN: 618556.22400 5428909.00600
NATION: US
NATION: CA
NATION: "SCIENCE
STATE: MT
NW_QUAD_CORNER_XY: 618854.40300 5428727.96600
NE_QUAD_CORNER_XY: 623425.54700 5428827.72000
SE_QUAD_CORNERY_XY: 623579.94500 5421880.34200
SW_QUAD_CORNER_XY: 619003.08000 5421780.55800
SECONDARY_NW_QUAD_XY: 618858.22000 5428508.99600
SECONDARY_NE_QUAD_XY: 623429.51100 5428608.75300
SECONDARY_SE_QUAD_XY: 623583.90900 5421661.37800
SECONDARY_SW_QUAD_XY: 619006.89700 5421561.59100
RMSE_XY: 1.50000
IMAGE_SOURCE: BLACK AND WHITE FILM
SOURCE_IMAGE_ID: NAPP 9156 107
SOURCE_IMAGE_DATE: 1997 08 29
SOURCE_DEM_DATE: 1993 00 00
AGENCY: WESTERN MAPPING CENTER (WMC)
PRODUCER: UNDEFINED
PRODUCTION_SYSTEM: GIS/MAGIC
COMPRESSION: UNDEFINED
STANDARD_VERSION: 1996 12
METADATA_DATE: 2000 11 29
DATA_FILE_SIZE: 41177682
BYTE_COUNT: 5382
