FILENAME: O4810906.SWS.1115694.tif
QUADRANGLE_NAME: NORTH CHINOOK RESERVOIR NE
QUADRANT: SW
WEST_LONGITUDE: -109 22 30.00000
EAST_LONGITUDE: -109 18 45.00000
NORTH_LATITUDE: 48 56 15.00000
SOUTH_LATITUDE: 48 52 30.00000
PRODUCTION_DATE: 2000 10 30
RASTER_ORDER: LEFT_RIGHT/TOP_BOTTOM
BAND_ORGANIZATION: SINGLE FILE
BAND_CONTENT: BLACK&WHITE
BAND_CONTENT: UNDEFINED
BAND_CONTENT: UNDEFINED
BITS_PER_PIXEL: 8
SAMPLES_AND_LINES: 5388 7651
HORIZONTAL_DATUM: NAD83
HORIZONTAL_COORDINATE_SYSTEM: UTM
COORDINATE_ZONE: 12
HORIZONTAL_UNITS: METERS
HORIZONTAL_RESOLUTION: 1.00000
SECONDARY_HORIZONTAL_DATUM: NAD27
XY_ORIGIN: 618648.00000 5422181.00000
SECONDARY_XY_ORIGIN: 618705.39600 5421962.16300
NATION: US
NATION: "SCIENCE
STATE: MT
NW_QUAD_CORNER_XY: 619003.08000 5421780.55800
NE_QUAD_CORNER_XY: 623579.94500 5421880.34200
SE_QUAD_CORNERY_XY: 623734.19500 5414933.03400
SW_QUAD_CORNER_XY: 619151.61400 5414833.22000
SECONDARY_NW_QUAD_XY: 619006.89700 5421561.59100
SECONDARY_NE_QUAD_XY: 623583.90900 5421661.37800
SECONDARY_SE_QUAD_XY: 623738.15900 5414714.07200
SECONDARY_SW_QUAD_XY: 619155.43200 5414614.25500
RMSE_XY: 2.00000
IMAGE_SOURCE: BLACK AND WHITE FILM
SOURCE_IMAGE_ID: NAPP 9156 105
SOURCE_IMAGE_DATE: 1997 08 29
SOURCE_DEM_DATE: 1993 00 00
AGENCY: WESTERN MAPPING CENTER (WMC)
PRODUCER: UNDEFINED
PRODUCTION_SYSTEM: GIS/MAGIC
COMPRESSION: UNDEFINED
STANDARD_VERSION: 1996 12
METADATA_DATE: 2000 11 29
DATA_FILE_SIZE: 41228976
BYTE_COUNT: 5388
