FILENAME: O4810905.NWS.1119833.tif
QUADRANGLE_NAME: NORTH CHINOOK RESERVOIR NW
QUADRANT: NW
WEST_LONGITUDE: -109 30 0.00000
EAST_LONGITUDE: -109 26 15.00000
NORTH_LATITUDE: 49 0 0.00000
SOUTH_LATITUDE: 48 56 15.00000
PRODUCTION_DATE: 2000 11 5
RASTER_ORDER: LEFT_RIGHT/TOP_BOTTOM
BAND_ORGANIZATION: SINGLE FILE
BAND_CONTENT: BLACK&WHITE
BAND_CONTENT: UNDEFINED
BAND_CONTENT: UNDEFINED
BITS_PER_PIXEL: 8
SAMPLES_AND_LINES: 5371 7642
HORIZONTAL_DATUM: NAD83
HORIZONTAL_COORDINATE_SYSTEM: UTM
COORDINATE_ZONE: 12
HORIZONTAL_UNITS: METERS
HORIZONTAL_RESOLUTION: 1.00000
SECONDARY_HORIZONTAL_DATUM: NAD27
XY_ORIGIN: 609357.00000 5428932.00000
SECONDARY_XY_ORIGIN: 609414.44800 5428713.09800
NATION: US
NATION: "SCIENCE
STATE: MT
NW_QUAD_CORNER_XY: 609712.05700 5428539.75600
NE_QUAD_CORNER_XY: 614283.23900 5428631.97800
SE_QUAD_CORNERY_XY: 614426.19600 5421684.54100
SW_QUAD_CORNER_XY: 609849.29300 5421592.29100
SECONDARY_NW_QUAD_XY: 609715.58100 5428320.78000
SECONDARY_NE_QUAD_XY: 614286.91000 5428413.00500
SECONDARY_SE_QUAD_XY: 614429.86600 5421465.57100
SECONDARY_SW_QUAD_XY: 609852.81700 5421373.31800
RMSE_XY: 1.00000
IMAGE_SOURCE: BLACK AND WHITE FILM
SOURCE_IMAGE_ID: NAPP 9159 065
SOURCE_IMAGE_DATE: 1997 09 22
SOURCE_DEM_DATE: 1993 00 00
AGENCY: WESTERN MAPPING CENTER (WMC)
PRODUCER: UNDEFINED
PRODUCTION_SYSTEM: GIS/MAGIC
COMPRESSION: UNDEFINED
STANDARD_VERSION: 1996 12
METADATA_DATE: 2000 12 21
DATA_FILE_SIZE: 41050553
BYTE_COUNT: 5371
