FILENAME: O4810905.SES.1119834.tif
QUADRANGLE_NAME: NORTH CHINOOK RESERVOIR NW
QUADRANT: SE
WEST_LONGITUDE: -109 26 15.00000
EAST_LONGITUDE: -109 22 30.00000
NORTH_LATITUDE: 48 56 15.00000
SOUTH_LATITUDE: 48 52 30.00000
PRODUCTION_DATE: 2000 10 17
RASTER_ORDER: LEFT_RIGHT/TOP_BOTTOM
BAND_ORGANIZATION: SINGLE FILE
BAND_CONTENT: BLACK&WHITE
BAND_CONTENT: UNDEFINED
BAND_CONTENT: UNDEFINED
BITS_PER_PIXEL: 8
SAMPLES_AND_LINES: 5382 7647
HORIZONTAL_DATUM: NAD83
HORIZONTAL_COORDINATE_SYSTEM: UTM
COORDINATE_ZONE: 12
HORIZONTAL_UNITS: METERS
HORIZONTAL_RESOLUTION: 1.00000
SECONDARY_HORIZONTAL_DATUM: NAD27
XY_ORIGIN: 614071.00000 5422081.00000
SECONDARY_XY_ORIGIN: 614128.51200 5421862.18500
NATION: US
NATION: "SCIENCE
STATE: MT
NW_QUAD_CORNER_XY: 614426.19600 5421684.54100
NE_QUAD_CORNER_XY: 619003.08000 5421780.55800
SE_QUAD_CORNERY_XY: 619151.61400 5414833.22000
SW_QUAD_CORNER_XY: 614569.01500 5414737.17500
SECONDARY_NW_QUAD_XY: 614429.86600 5421465.57100
SECONDARY_NE_QUAD_XY: 619006.89700 5421561.59100
SECONDARY_SE_QUAD_XY: 619155.43200 5414614.25500
SECONDARY_SW_QUAD_XY: 614572.68600 5414518.20700
RMSE_XY: 1.20000
IMAGE_SOURCE: BLACK AND WHITE FILM
SOURCE_IMAGE_ID: NAPP 9156 114
SOURCE_IMAGE_DATE: 1997 08 29
SOURCE_DEM_DATE: 1993 00 00
AGENCY: WESTERN MAPPING CENTER (WMC)
PRODUCER: UNDEFINED
PRODUCTION_SYSTEM: GIS/MAGIC
COMPRESSION: UNDEFINED
STANDARD_VERSION: 1996 12
METADATA_DATE: 2000 12 21
DATA_FILE_SIZE: 41161536
BYTE_COUNT: 5382
