FILENAME: O4810905.SWS.1119835.tif
QUADRANGLE_NAME: NORTH CHINOOK RESERVOIR NW
QUADRANT: SW
WEST_LONGITUDE: -109 30 0.00000
EAST_LONGITUDE: -109 26 15.00000
NORTH_LATITUDE: 48 56 15.00000
SOUTH_LATITUDE: 48 52 30.00000
PRODUCTION_DATE: 2000 10 17
RASTER_ORDER: LEFT_RIGHT/TOP_BOTTOM
BAND_ORGANIZATION: SINGLE FILE
BAND_CONTENT: BLACK&WHITE
BAND_CONTENT: UNDEFINED
BAND_CONTENT: UNDEFINED
BITS_PER_PIXEL: 8
SAMPLES_AND_LINES: 5377 7643
HORIZONTAL_DATUM: NAD83
HORIZONTAL_COORDINATE_SYSTEM: UTM
COORDINATE_ZONE: 12
HORIZONTAL_UNITS: METERS
HORIZONTAL_RESOLUTION: 1.00000
SECONDARY_HORIZONTAL_DATUM: NAD27
XY_ORIGIN: 609494.00000 5421985.00000
SECONDARY_XY_ORIGIN: 609551.62700 5421766.20700
NATION: US
NATION: "SCIENCE
STATE: MT
NW_QUAD_CORNER_XY: 609849.29300 5421592.29100
NE_QUAD_CORNER_XY: 614426.19600 5421684.54100
SE_QUAD_CORNERY_XY: 614569.01500 5414737.17500
SW_QUAD_CORNER_XY: 609986.39700 5414644.89800
SECONDARY_NW_QUAD_XY: 609852.81700 5421373.31800
SECONDARY_NE_QUAD_XY: 614429.86600 5421465.57100
SECONDARY_SE_QUAD_XY: 614572.68600 5414518.20700
SECONDARY_SW_QUAD_XY: 609989.92100 5414425.92600
RMSE_XY: 0.90000
IMAGE_SOURCE: BLACK AND WHITE FILM
SOURCE_IMAGE_ID: NAPP 9159 063
SOURCE_IMAGE_DATE: 1997 09 22
SOURCE_DEM_DATE: 1993 00 00
AGENCY: WESTERN MAPPING CENTER (WMC)
PRODUCER: UNDEFINED
PRODUCTION_SYSTEM: GIS/MAGIC
COMPRESSION: UNDEFINED
STANDARD_VERSION: 1996 12
METADATA_DATE: 2000 12 21
DATA_FILE_SIZE: 41101788
BYTE_COUNT: 5377
