FILENAME: O4810904.NES.1119798.tif
QUADRANGLE_NAME: LAKE THIBADEAU NE
QUADRANT: NE
WEST_LONGITUDE: -109 33 45.00000
EAST_LONGITUDE: -109 30 0.00000
NORTH_LATITUDE: 49 0 0.00000
SOUTH_LATITUDE: 48 56 15.00000
PRODUCTION_DATE: 2000 11 1
RASTER_ORDER: LEFT_RIGHT/TOP_BOTTOM
BAND_ORGANIZATION: SINGLE FILE
BAND_CONTENT: BLACK&WHITE
BAND_CONTENT: UNDEFINED
BAND_CONTENT: UNDEFINED
BITS_PER_PIXEL: 8
SAMPLES_AND_LINES: 5366 7639
HORIZONTAL_DATUM: NAD83
HORIZONTAL_COORDINATE_SYSTEM: UTM
COORDINATE_ZONE: 12
HORIZONTAL_UNITS: METERS
HORIZONTAL_RESOLUTION: 1.00000
SECONDARY_HORIZONTAL_DATUM: NAD27
XY_ORIGIN: 604785.00000 5428840.00000
SECONDARY_XY_ORIGIN: 604842.51200 5428621.07400
NATION: US
NATION: "SCIENCE
STATE: MT
NW_QUAD_CORNER_XY: 605140.85700 5428451.29900
NE_QUAD_CORNER_XY: 609712.05700 5428539.75600
SE_QUAD_CORNERY_XY: 609849.29300 5421592.29100
SW_QUAD_CORNER_XY: 605272.37300 5421503.80800
SECONDARY_NW_QUAD_XY: 605144.23400 5428232.32100
SECONDARY_NE_QUAD_XY: 609715.58100 5428320.78000
SECONDARY_SE_QUAD_XY: 609852.81700 5421373.31800
SECONDARY_SW_QUAD_XY: 605275.75000 5421284.83100
RMSE_XY: 0.70000
IMAGE_SOURCE: BLACK AND WHITE FILM
SOURCE_IMAGE_ID: NAPP 9159 070
SOURCE_IMAGE_DATE: 1997 09 22
SOURCE_IMAGE_ID: NAPP 9159 069
SOURCE_IMAGE_DATE: 1997 09 22
SOURCE_DEM_DATE: 1993 00 00
AGENCY: WESTERN MAPPING CENTER (WMC)
PRODUCER: UNDEFINED
PRODUCTION_SYSTEM: GIS/MAGIC
COMPRESSION: UNDEFINED
STANDARD_VERSION: 1996 12
METADATA_DATE: 2000 12 21
DATA_FILE_SIZE: 40996240
BYTE_COUNT: 5366
