FILENAME: O4810903.NES.1119765.tif
QUADRANGLE_NAME: CREEDMAN COULEE EAST
QUADRANT: NE
WEST_LONGITUDE: -109 41 15.00000
EAST_LONGITUDE: -109 37 30.00000
NORTH_LATITUDE: 49 0 0.00000
SOUTH_LATITUDE: 48 56 15.00000
PRODUCTION_DATE: 2000 11 7
RASTER_ORDER: LEFT_RIGHT/TOP_BOTTOM
BAND_ORGANIZATION: SINGLE FILE
BAND_CONTENT: BLACK&WHITE
BAND_CONTENT: UNDEFINED
BAND_CONTENT: UNDEFINED
BITS_PER_PIXEL: 8
SAMPLES_AND_LINES: 5355 7632
HORIZONTAL_DATUM: NAD83
HORIZONTAL_COORDINATE_SYSTEM: UTM
COORDINATE_ZONE: 12
HORIZONTAL_UNITS: METERS
HORIZONTAL_RESOLUTION: 1.00000
SECONDARY_HORIZONTAL_DATUM: NAD27
XY_ORIGIN: 595642.00000 5428667.00000
SECONDARY_XY_ORIGIN: 595699.64500 5428448.01300
NATION: US
NATION: "SCIENCE
STATE: MT
NW_QUAD_CORNER_XY: 595998.40500 5428285.68100
NE_QUAD_CORNER_XY: 600569.63900 5428366.60700
SE_QUAD_CORNERY_XY: 600695.43500 5421419.09100
SW_QUAD_CORNER_XY: 596118.48100 5421338.14000
SECONDARY_NW_QUAD_XY: 596001.48800 5428066.69800
SECONDARY_NE_QUAD_XY: 600572.86900 5428147.62600
SECONDARY_SE_QUAD_XY: 600698.66500 5421200.11200
SECONDARY_SW_QUAD_XY: 596121.56500 5421119.15900
RMSE_XY: 1.80000
IMAGE_SOURCE: BLACK AND WHITE FILM
SOURCE_IMAGE_ID: NAPP 9159 186
SOURCE_IMAGE_DATE: 1997 09 22
SOURCE_DEM_DATE: 1993 00 00
AGENCY: WESTERN MAPPING CENTER (WMC)
PRODUCER: UNDEFINED
PRODUCTION_SYSTEM: GIS/MAGIC
COMPRESSION: UNDEFINED
STANDARD_VERSION: 1996 12
METADATA_DATE: 2000 12 21
DATA_FILE_SIZE: 40874715
BYTE_COUNT: 5355
