FILENAME: O4810903.NWS.1119766.tif
QUADRANGLE_NAME: CREEDMAN COULEE EAST
QUADRANT: NW
WEST_LONGITUDE: -109 45 0.00000
EAST_LONGITUDE: -109 41 15.00000
NORTH_LATITUDE: 49 0 0.00000
SOUTH_LATITUDE: 48 56 15.00000
PRODUCTION_DATE: 2000 11 1
RASTER_ORDER: LEFT_RIGHT/TOP_BOTTOM
BAND_ORGANIZATION: SINGLE FILE
BAND_CONTENT: BLACK&WHITE
BAND_CONTENT: UNDEFINED
BAND_CONTENT: UNDEFINED
BITS_PER_PIXEL: 8
SAMPLES_AND_LINES: 5349 7628
HORIZONTAL_DATUM: NAD83
HORIZONTAL_COORDINATE_SYSTEM: UTM
COORDINATE_ZONE: 12
HORIZONTAL_UNITS: METERS
HORIZONTAL_RESOLUTION: 1.00000
SECONDARY_HORIZONTAL_DATUM: NAD27
XY_ORIGIN: 591071.00000 5428586.00000
SECONDARY_XY_ORIGIN: 591128.71200 5428366.98200
NATION: US
NATION: CA
NATION: "SCIENCE
STATE: MT
NW_QUAD_CORNER_XY: 591427.15500 5428208.52000
NE_QUAD_CORNER_XY: 595998.40500 5428285.68100
SE_QUAD_CORNERY_XY: 596118.48100 5421338.14000
SW_QUAD_CORNER_XY: 591541.51200 5421260.95600
SECONDARY_NW_QUAD_XY: 591430.09100 5427989.53400
SECONDARY_NE_QUAD_XY: 596001.48800 5428066.69800
SECONDARY_SE_QUAD_XY: 596121.56500 5421119.15900
SECONDARY_SW_QUAD_XY: 591544.44800 5421041.97200
RMSE_XY: 1.50000
IMAGE_SOURCE: BLACK AND WHITE FILM
SOURCE_IMAGE_ID: NAPP 9160 061
SOURCE_IMAGE_DATE: 1997 09 23
SOURCE_DEM_DATE: 1993 00 00
AGENCY: WESTERN MAPPING CENTER (WMC)
PRODUCER: UNDEFINED
PRODUCTION_SYSTEM: GIS/MAGIC
COMPRESSION: UNDEFINED
STANDARD_VERSION: 1996 12
METADATA_DATE: 2000 12 21
DATA_FILE_SIZE: 40807521
BYTE_COUNT: 5349
