FILENAME: O4810903.SWS.1119768.tif
QUADRANGLE_NAME: CREEDMAN COULEE EAST
QUADRANT: SW
WEST_LONGITUDE: -109 45 0.00000
EAST_LONGITUDE: -109 41 15.00000
NORTH_LATITUDE: 48 56 15.00000
SOUTH_LATITUDE: 48 52 30.00000
PRODUCTION_DATE: 2000 10 25
RASTER_ORDER: LEFT_RIGHT/TOP_BOTTOM
BAND_ORGANIZATION: SINGLE FILE
BAND_CONTENT: BLACK&WHITE
BAND_CONTENT: UNDEFINED
BAND_CONTENT: UNDEFINED
BITS_PER_PIXEL: 8
SAMPLES_AND_LINES: 5355 7628
HORIZONTAL_DATUM: NAD83
HORIZONTAL_COORDINATE_SYSTEM: UTM
COORDINATE_ZONE: 12
HORIZONTAL_UNITS: METERS
HORIZONTAL_RESOLUTION: 1.00000
SECONDARY_HORIZONTAL_DATUM: NAD27
XY_ORIGIN: 591185.00000 5421639.00000
SECONDARY_XY_ORIGIN: 591242.90800 5421420.13500
NATION: US
NATION: "SCIENCE
STATE: MT
NW_QUAD_CORNER_XY: 591541.51200 5421260.95600
NE_QUAD_CORNER_XY: 596118.48100 5421338.14000
SE_QUAD_CORNERY_XY: 596238.44200 5414390.67100
SW_QUAD_CORNER_XY: 591655.75900 5414313.46400
SECONDARY_NW_QUAD_XY: 591544.44800 5421041.97200
SECONDARY_NE_QUAD_XY: 596121.56500 5421119.15900
SECONDARY_SE_QUAD_XY: 596241.52600 5414171.69200
SECONDARY_SW_QUAD_XY: 591658.69600 5414094.48200
RMSE_XY: 2.40000
IMAGE_SOURCE: BLACK AND WHITE FILM
SOURCE_IMAGE_ID: NAPP 9160 063
SOURCE_IMAGE_DATE: 1997 09 23
SOURCE_DEM_DATE: 1993 00 00
AGENCY: WESTERN MAPPING CENTER (WMC)
PRODUCER: UNDEFINED
PRODUCTION_SYSTEM: GIS/MAGIC
COMPRESSION: UNDEFINED
STANDARD_VERSION: 1996 12
METADATA_DATE: 2000 12 21
DATA_FILE_SIZE: 40853295
BYTE_COUNT: 5355
