FILENAME: O4810902.NWS.1119721.tif
QUADRANGLE_NAME: CREEDMAN COULEE WEST
QUADRANT: NW
WEST_LONGITUDE: -109 52 30.00000
EAST_LONGITUDE: -109 48 45.00000
NORTH_LATITUDE: 49 0 0.00000
SOUTH_LATITUDE: 48 56 15.00000
PRODUCTION_DATE: 2000 11 1
RASTER_ORDER: LEFT_RIGHT/TOP_BOTTOM
BAND_ORGANIZATION: SINGLE FILE
BAND_CONTENT: BLACK&WHITE
BAND_CONTENT: UNDEFINED
BAND_CONTENT: UNDEFINED
BITS_PER_PIXEL: 8
SAMPLES_AND_LINES: 5338 7621
HORIZONTAL_DATUM: NAD83
HORIZONTAL_COORDINATE_SYSTEM: UTM
COORDINATE_ZONE: 12
HORIZONTAL_UNITS: METERS
HORIZONTAL_RESOLUTION: 1.00000
SECONDARY_HORIZONTAL_DATUM: NAD27
XY_ORIGIN: 581928.00000 5428436.00000
SECONDARY_XY_ORIGIN: 581985.73900 5428216.71800
NATION: US
NATION: CA
NATION: "SCIENCE
STATE: MT
NW_QUAD_CORNER_XY: 582284.61100 5428065.49200
NE_QUAD_CORNER_XY: 586855.89000 5428135.12400
SE_QUAD_CORNERY_XY: 586964.52800 5421187.53800
SW_QUAD_CORNER_XY: 582387.53000 5421117.88500
SECONDARY_NW_QUAD_XY: 582287.25300 5427846.50200
SECONDARY_NE_QUAD_XY: 586858.68000 5427916.13500
SECONDARY_SE_QUAD_XY: 586967.31700 5420968.55100
SECONDARY_SW_QUAD_XY: 582390.17200 5420898.89600
RMSE_XY: 1.50000
IMAGE_SOURCE: BLACK AND WHITE FILM
SOURCE_IMAGE_ID: NAPP 9128 220
SOURCE_IMAGE_DATE: 1996 07 29
SOURCE_DEM_DATE: 1993 00 00
AGENCY: WESTERN MAPPING CENTER (WMC)
PRODUCER: UNDEFINED
PRODUCTION_SYSTEM: GIS/MAGIC
COMPRESSION: UNDEFINED
STANDARD_VERSION: 1996 12
METADATA_DATE: 2000 11 30
DATA_FILE_SIZE: 40686236
BYTE_COUNT: 5338
