FILENAME: O4810901.SWS.1115147.tif
QUADRANGLE_NAME: WILD HORSE LAKE EAST
QUADRANT: SW
WEST_LONGITUDE: -110 0 0.00000
EAST_LONGITUDE: -109 56 15.00000
NORTH_LATITUDE: 48 56 15.00000
SOUTH_LATITUDE: 48 52 30.00000
PRODUCTION_DATE: 2000 10 24
RASTER_ORDER: LEFT_RIGHT/TOP_BOTTOM
BAND_ORGANIZATION: SINGLE FILE
BAND_CONTENT: BLACK&WHITE
BAND_CONTENT: UNDEFINED
BAND_CONTENT: UNDEFINED
BITS_PER_PIXEL: 8
SAMPLES_AND_LINES: 5333 7613
HORIZONTAL_DATUM: NAD83
HORIZONTAL_COORDINATE_SYSTEM: UTM
COORDINATE_ZONE: 12
HORIZONTAL_UNITS: METERS
HORIZONTAL_RESOLUTION: 1.00000
SECONDARY_HORIZONTAL_DATUM: NAD27
XY_ORIGIN: 572876.00000 5421353.00000
SECONDARY_XY_ORIGIN: 572933.92600 5421133.73000
NATION: US
NATION: "SCIENCE
STATE: MT
NW_QUAD_CORNER_XY: 573233.49400 5420989.87700
NE_QUAD_CORNER_XY: 577810.51800 5421051.99800
SE_QUAD_CORNERY_XY: 577907.62500 5414104.44500
SW_QUAD_CORNER_XY: 573324.88700 5414042.30500
SECONDARY_NW_QUAD_XY: 573235.84300 5420770.88400
SECONDARY_NE_QUAD_XY: 577813.01400 5420833.00700
SECONDARY_SE_QUAD_XY: 577910.12100 5413885.45600
SECONDARY_SW_QUAD_XY: 573327.23600 5413823.31500
RMSE_XY: 1.90000
IMAGE_SOURCE: BLACK AND WHITE FILM
SOURCE_IMAGE_ID: NAPP 9158 047
SOURCE_IMAGE_DATE: 1997 09 04
SOURCE_DEM_DATE: 1993 00 00
AGENCY: WESTERN MAPPING CENTER (WMC)
PRODUCER: UNDEFINED
PRODUCTION_SYSTEM: GIS/MAGIC
COMPRESSION: UNDEFINED
STANDARD_VERSION: 1996 12
METADATA_DATE: 2000 11 29
DATA_FILE_SIZE: 40605462
BYTE_COUNT: 5333
