FILENAME: O4811064.SWS.1081044.tif
QUADRANGLE_NAME: LONETREE COULEE
QUADRANT: SW
WEST_LONGITUDE: -110 7 30.00000
EAST_LONGITUDE: -110 3 45.00000
NORTH_LATITUDE: 48 3 45.00000
SOUTH_LATITUDE: 48 0 0.00000
PRODUCTION_DATE: 2000 5 25
RASTER_ORDER: LEFT_RIGHT/TOP_BOTTOM
BAND_ORGANIZATION: SINGLE FILE
BAND_CONTENT: BLACK&WHITE
BAND_CONTENT: UNDEFINED
BAND_CONTENT: UNDEFINED
BITS_PER_PIXEL: 8
SAMPLES_AND_LINES: 5400 7607
HORIZONTAL_DATUM: NAD83
HORIZONTAL_COORDINATE_SYSTEM: UTM
COORDINATE_ZONE: 12
HORIZONTAL_UNITS: METERS
HORIZONTAL_RESOLUTION: 1.00000
SECONDARY_HORIZONTAL_DATUM: NAD27
XY_ORIGIN: 564834.00000 5323972.00000
SECONDARY_XY_ORIGIN: 564892.75400 5323756.31800
NATION: US
NATION: "SCIENCE
STATE: MT
NW_QUAD_CORNER_XY: 565191.92200 5323617.18700
NE_QUAD_CORNER_XY: 569848.44500 5323671.98000
SE_QUAD_CORNERY_XY: 569932.96200 5316725.42300
SW_QUAD_CORNER_XY: 565270.80400 5316670.61800
SECONDARY_NW_QUAD_XY: 565193.97600 5323398.30300
SECONDARY_NE_QUAD_XY: 569850.64600 5323453.09800
SECONDARY_SE_QUAD_XY: 569935.16300 5316506.55600
SECONDARY_SW_QUAD_XY: 565272.85800 5316451.74900
RMSE_XY: 1.50000
IMAGE_SOURCE: BLACK AND WHITE FILM
SOURCE_IMAGE_ID: NAPP 9178 269
SOURCE_IMAGE_DATE: 1997 09 04
SOURCE_DEM_DATE: 1952 00 00
AGENCY: WESTERN MAPPING CENTER (WMC)
PRODUCER: UNDEFINED
PRODUCTION_SYSTEM: GIS/MAGIC
COMPRESSION: UNDEFINED
STANDARD_VERSION: 1996 12
METADATA_DATE: 2000 06 13
DATA_FILE_SIZE: 41083200
BYTE_COUNT: 5400
