FILENAME: O4811063.NES.1081025.tif
QUADRANGLE_NAME: VERONA
QUADRANT: NE
WEST_LONGITUDE: -110 11 15.00000
EAST_LONGITUDE: -110 7 30.00000
NORTH_LATITUDE: 48 7 30.00000
SOUTH_LATITUDE: 48 3 45.00000
PRODUCTION_DATE: 2000 5 24
RASTER_ORDER: LEFT_RIGHT/TOP_BOTTOM
BAND_ORGANIZATION: SINGLE FILE
BAND_CONTENT: BLACK&WHITE
BAND_CONTENT: UNDEFINED
BAND_CONTENT: UNDEFINED
BITS_PER_PIXEL: 8
SAMPLES_AND_LINES: 5389 7604
HORIZONTAL_DATUM: NAD83
HORIZONTAL_COORDINATE_SYSTEM: UTM
COORDINATE_ZONE: 12
HORIZONTAL_UNITS: METERS
HORIZONTAL_RESOLUTION: 1.00000
SECONDARY_HORIZONTAL_DATUM: NAD27
XY_ORIGIN: 560104.00000 5330864.00000
SECONDARY_XY_ORIGIN: 560162.73400 5330648.16700
NATION: US
NATION: "SCIENCE
STATE: MT
NW_QUAD_CORNER_XY: 560462.07100 5330512.82800
NE_QUAD_CORNER_XY: 565112.96200 5330563.83000
SE_QUAD_CORNERY_XY: 565191.92200 5323617.18700
SW_QUAD_CORNER_XY: 560535.39000 5323566.17300
SECONDARY_NW_QUAD_XY: 560463.97900 5330293.93000
SECONDARY_NE_QUAD_XY: 565115.01600 5330344.93300
SECONDARY_SE_QUAD_XY: 565193.97600 5323398.30300
SECONDARY_SW_QUAD_XY: 560537.29800 5323347.28800
RMSE_XY: 1.10000
IMAGE_SOURCE: BLACK AND WHITE FILM
SOURCE_IMAGE_ID: NAPP 9179 040
SOURCE_IMAGE_DATE: 1997 09 04
SOURCE_IMAGE_ID: NAPP 9179 041
SOURCE_IMAGE_DATE: 1997 09 04
SOURCE_DEM_DATE: 1953 00 00
AGENCY: WESTERN MAPPING CENTER (WMC)
PRODUCER: UNDEFINED
PRODUCTION_SYSTEM: GIS/MAGIC
COMPRESSION: UNDEFINED
STANDARD_VERSION: 1996 12
METADATA_DATE: 2000 06 13
DATA_FILE_SIZE: 40983345
BYTE_COUNT: 5389
