FILENAME: O4811063.NWS.1081026.tif
QUADRANGLE_NAME: VERONA
QUADRANT: NW
WEST_LONGITUDE: -110 15 0.00000
EAST_LONGITUDE: -110 11 15.00000
NORTH_LATITUDE: 48 7 30.00000
SOUTH_LATITUDE: 48 3 45.00000
PRODUCTION_DATE: 2000 5 24
RASTER_ORDER: LEFT_RIGHT/TOP_BOTTOM
BAND_ORGANIZATION: SINGLE FILE
BAND_CONTENT: BLACK&WHITE
BAND_CONTENT: UNDEFINED
BAND_CONTENT: UNDEFINED
BITS_PER_PIXEL: 8
SAMPLES_AND_LINES: 5384 7600
HORIZONTAL_DATUM: NAD83
HORIZONTAL_COORDINATE_SYSTEM: UTM
COORDINATE_ZONE: 12
HORIZONTAL_UNITS: METERS
HORIZONTAL_RESOLUTION: 1.00000
SECONDARY_HORIZONTAL_DATUM: NAD27
XY_ORIGIN: 555453.00000 5330813.00000
SECONDARY_XY_ORIGIN: 555511.69100 5330597.22200
NATION: US
NATION: "SCIENCE
STATE: MT
NW_QUAD_CORNER_XY: 555811.17200 5330465.60500
NE_QUAD_CORNER_XY: 560462.07100 5330512.82800
SE_QUAD_CORNERY_XY: 560535.39000 5323566.17300
SW_QUAD_CORNER_XY: 555878.85100 5323518.93900
SECONDARY_NW_QUAD_XY: 555812.93300 5330246.70500
SECONDARY_NE_QUAD_XY: 560463.97900 5330293.93000
SECONDARY_SE_QUAD_XY: 560537.29800 5323347.28800
SECONDARY_SW_QUAD_XY: 555880.61200 5323300.05300
RMSE_XY: 1.00000
IMAGE_SOURCE: BLACK AND WHITE FILM
SOURCE_IMAGE_ID: NAPP 9177 040
SOURCE_IMAGE_DATE: 1997 09 04
SOURCE_IMAGE_ID: NAPP 9177 041
SOURCE_IMAGE_DATE: 1997 09 04
SOURCE_DEM_DATE: 1953 00 00
AGENCY: WESTERN MAPPING CENTER (WMC)
PRODUCER: UNDEFINED
PRODUCTION_SYSTEM: GIS/MAGIC
COMPRESSION: UNDEFINED
STANDARD_VERSION: 1996 12
METADATA_DATE: 2000 06 13
DATA_FILE_SIZE: 40923784
BYTE_COUNT: 5384
