FILENAME: O4811063.SES.1081027.tif
QUADRANGLE_NAME: VERONA
QUADRANT: SE
WEST_LONGITUDE: -110 11 15.00000
EAST_LONGITUDE: -110 7 30.00000
NORTH_LATITUDE: 48 3 45.00000
SOUTH_LATITUDE: 48 0 0.00000
PRODUCTION_DATE: 2000 5 24
RASTER_ORDER: LEFT_RIGHT/TOP_BOTTOM
BAND_ORGANIZATION: SINGLE FILE
BAND_CONTENT: BLACK&WHITE
BAND_CONTENT: UNDEFINED
BAND_CONTENT: UNDEFINED
BITS_PER_PIXEL: 8
SAMPLES_AND_LINES: 5395 7604
HORIZONTAL_DATUM: NAD83
HORIZONTAL_COORDINATE_SYSTEM: UTM
COORDINATE_ZONE: 12
HORIZONTAL_UNITS: METERS
HORIZONTAL_RESOLUTION: 1.00000
SECONDARY_HORIZONTAL_DATUM: NAD27
XY_ORIGIN: 560177.00000 5323918.00000
SECONDARY_XY_ORIGIN: 560235.71300 5323702.37400
NATION: US
NATION: "SCIENCE
STATE: MT
NW_QUAD_CORNER_XY: 560535.39000 5323566.17300
NE_QUAD_CORNER_XY: 565191.92200 5323617.18700
SE_QUAD_CORNERY_XY: 565270.80400 5316670.61800
SW_QUAD_CORNER_XY: 560608.63700 5316619.59300
SECONDARY_NW_QUAD_XY: 560537.29800 5323347.28800
SECONDARY_NE_QUAD_XY: 565193.97600 5323398.30300
SECONDARY_SE_QUAD_XY: 565272.85800 5316451.74900
SECONDARY_SW_QUAD_XY: 560610.54400 5316400.72200
RMSE_XY: 1.50000
IMAGE_SOURCE: BLACK AND WHITE FILM
SOURCE_IMAGE_ID: NAPP 9179 038
SOURCE_IMAGE_DATE: 1997 09 04
SOURCE_IMAGE_ID: NAPP 9177 041
SOURCE_IMAGE_DATE: 1997 09 04
SOURCE_DEM_DATE: 1953 00 00
AGENCY: WESTERN MAPPING CENTER (WMC)
PRODUCER: UNDEFINED
PRODUCTION_SYSTEM: GIS/MAGIC
COMPRESSION: UNDEFINED
STANDARD_VERSION: 1996 12
METADATA_DATE: 2000 06 13
DATA_FILE_SIZE: 41028975
BYTE_COUNT: 5395
