FILENAME: O4811062.NES.1081013.tif
QUADRANGLE_NAME: BOGGS ISLAND
QUADRANT: NE
WEST_LONGITUDE: -110 18 45.00000
EAST_LONGITUDE: -110 15 0.00000
NORTH_LATITUDE: 48 7 30.00000
SOUTH_LATITUDE: 48 3 45.00000
PRODUCTION_DATE: 2000 5 24
RASTER_ORDER: LEFT_RIGHT/TOP_BOTTOM
BAND_ORGANIZATION: SINGLE FILE
BAND_CONTENT: BLACK&WHITE
BAND_CONTENT: UNDEFINED
BAND_CONTENT: UNDEFINED
BITS_PER_PIXEL: 8
SAMPLES_AND_LINES: 5378 7596
HORIZONTAL_DATUM: NAD83
HORIZONTAL_COORDINATE_SYSTEM: UTM
COORDINATE_ZONE: 12
HORIZONTAL_UNITS: METERS
HORIZONTAL_RESOLUTION: 1.00000
SECONDARY_HORIZONTAL_DATUM: NAD27
XY_ORIGIN: 550802.00000 5330766.00000
SECONDARY_XY_ORIGIN: 550860.67300 5330550.20800
NATION: US
NATION: "SCIENCE
STATE: MT
NW_QUAD_CORNER_XY: 551160.26600 5330422.16000
NE_QUAD_CORNER_XY: 555811.17200 5330465.60500
SE_QUAD_CORNERY_XY: 555878.85100 5323518.93900
SW_QUAD_CORNER_XY: 551222.30500 5323475.48400
SECONDARY_NW_QUAD_XY: 551161.88000 5330203.25900
SECONDARY_NE_QUAD_XY: 555812.93300 5330246.70500
SECONDARY_SE_QUAD_XY: 555880.61200 5323300.05300
SECONDARY_SW_QUAD_XY: 551223.91900 5323256.59600
RMSE_XY: 1.60000
IMAGE_SOURCE: BLACK AND WHITE FILM
SOURCE_IMAGE_ID: NAPP 9177 079
SOURCE_IMAGE_DATE: 1997 09 04
SOURCE_IMAGE_ID: NAPP 9177 080
SOURCE_IMAGE_DATE: 1997 09 04
SOURCE_IMAGE_ID: NAPP 9177 041
SOURCE_IMAGE_DATE: 1997 09 04
SOURCE_DEM_DATE: 1994 00 00
AGENCY: WESTERN MAPPING CENTER (WMC)
PRODUCER: UNDEFINED
PRODUCTION_SYSTEM: GIS/MAGIC
COMPRESSION: UNDEFINED
STANDARD_VERSION: 1996 12
METADATA_DATE: 2000 06 13
DATA_FILE_SIZE: 40856666
BYTE_COUNT: 5378
