FILENAME: O4811062.SWS.1081016.tif
QUADRANGLE_NAME: BOGGS ISLAND
QUADRANT: SW
WEST_LONGITUDE: -110 22 30.00000
EAST_LONGITUDE: -110 18 45.00000
NORTH_LATITUDE: 48 3 45.00000
SOUTH_LATITUDE: 48 0 0.00000
PRODUCTION_DATE: 2000 5 24
RASTER_ORDER: LEFT_RIGHT/TOP_BOTTOM
BAND_ORGANIZATION: SINGLE FILE
BAND_CONTENT: BLACK&WHITE
BAND_CONTENT: UNDEFINED
BAND_CONTENT: UNDEFINED
BITS_PER_PIXEL: 8
SAMPLES_AND_LINES: 5379 7593
HORIZONTAL_DATUM: NAD83
HORIZONTAL_COORDINATE_SYSTEM: UTM
COORDINATE_ZONE: 12
HORIZONTAL_UNITS: METERS
HORIZONTAL_RESOLUTION: 1.00000
SECONDARY_HORIZONTAL_DATUM: NAD27
XY_ORIGIN: 546207.00000 5323776.00000
SECONDARY_XY_ORIGIN: 546265.62400 5323560.40700
NATION: US
NATION: "SCIENCE
STATE: MT
NW_QUAD_CORNER_XY: 546565.75200 5323435.80800
NE_QUAD_CORNER_XY: 551222.30500 5323475.48400
SE_QUAD_CORNERY_XY: 551284.28200 5316528.88300
SW_QUAD_CORNER_XY: 546622.09400 5316489.19700
SECONDARY_NW_QUAD_XY: 546567.21900 5323216.91900
SECONDARY_NE_QUAD_XY: 551223.91900 5323256.59600
SECONDARY_SE_QUAD_XY: 551285.89500 5316310.00900
SECONDARY_SW_QUAD_XY: 546623.56100 5316270.32300
RMSE_XY: 3.00000
IMAGE_SOURCE: BLACK AND WHITE FILM
SOURCE_IMAGE_ID: NAPP 9177 153
SOURCE_IMAGE_DATE: 1997 09 04
SOURCE_IMAGE_ID: NAPP 9177 173
SOURCE_IMAGE_DATE: 1997 09 04
SOURCE_IMAGE_ID: NAPP 9177 154
SOURCE_IMAGE_DATE: 1997 09 04
SOURCE_IMAGE_ID: NAPP 9177 152
SOURCE_IMAGE_DATE: 1997 09 04
SOURCE_IMAGE_ID: NAPP 9177 076
SOURCE_IMAGE_DATE: 1997 09 04
SOURCE_DEM_DATE: 1994 00 00
AGENCY: WESTERN MAPPING CENTER (WMC)
PRODUCER: UNDEFINED
PRODUCTION_SYSTEM: GIS/MAGIC
COMPRESSION: UNDEFINED
STANDARD_VERSION: 1996 12
METADATA_DATE: 2000 06 13
DATA_FILE_SIZE: 40848126
BYTE_COUNT: 5379
