FILENAME: O4811061.NES.1080997.tif
QUADRANGLE_NAME: KENILWORTH SW
QUADRANT: NE
WEST_LONGITUDE: -110 26 15.00000
EAST_LONGITUDE: -110 22 30.00000
NORTH_LATITUDE: 48 7 30.00000
SOUTH_LATITUDE: 48 3 45.00000
PRODUCTION_DATE: 2000 5 22
RASTER_ORDER: LEFT_RIGHT/TOP_BOTTOM
BAND_ORGANIZATION: SINGLE FILE
BAND_CONTENT: BLACK&WHITE
BAND_CONTENT: UNDEFINED
BAND_CONTENT: UNDEFINED
BITS_PER_PIXEL: 8
SAMPLES_AND_LINES: 5367 7589
HORIZONTAL_DATUM: NAD83
HORIZONTAL_COORDINATE_SYSTEM: UTM
COORDINATE_ZONE: 12
HORIZONTAL_UNITS: METERS
HORIZONTAL_RESOLUTION: 1.00000
SECONDARY_HORIZONTAL_DATUM: NAD27
XY_ORIGIN: 541500.00000 5330683.00000
SECONDARY_XY_ORIGIN: 541558.64000 5330467.19000
NATION: US
NATION: "SCIENCE
STATE: MT
NW_QUAD_CORNER_XY: 541858.43500 5330346.60400
NE_QUAD_CORNER_XY: 546509.35400 5330382.49300
SE_QUAD_CORNERY_XY: 546565.75200 5323435.80800
SW_QUAD_CORNER_XY: 541909.19300 5323399.91000
SECONDARY_NW_QUAD_XY: 541859.75600 5330127.70000
SECONDARY_NE_QUAD_XY: 546510.82100 5330163.59000
SECONDARY_SE_QUAD_XY: 546567.21900 5323216.91900
SECONDARY_SW_QUAD_XY: 541910.51400 5323181.02000
RMSE_XY: 1.80000
IMAGE_SOURCE: BLACK AND WHITE FILM
SOURCE_IMAGE_ID: NAPP 9177 174
SOURCE_IMAGE_DATE: 1997 09 04
SOURCE_IMAGE_ID: NAPP 9177 173
SOURCE_IMAGE_DATE: 1997 09 04
SOURCE_IMAGE_ID: NAPP 9177 175
SOURCE_IMAGE_DATE: 1997 09 04
SOURCE_DEM_DATE: 1991 00 00
AGENCY: WESTERN MAPPING CENTER (WMC)
PRODUCER: UNDEFINED
PRODUCTION_SYSTEM: GIS/MAGIC
COMPRESSION: UNDEFINED
STANDARD_VERSION: 1996 12
METADATA_DATE: 2000 06 13
DATA_FILE_SIZE: 40735530
BYTE_COUNT: 5367
