FILENAME: O4811060.NES.1080859.tif
QUADRANGLE_NAME: DAY SCHOOL
QUADRANT: NE
WEST_LONGITUDE: -110 33 45.00000
EAST_LONGITUDE: -110 30 0.00000
NORTH_LATITUDE: 48 7 30.00000
SOUTH_LATITUDE: 48 3 45.00000
PRODUCTION_DATE: 2000 5 22
RASTER_ORDER: LEFT_RIGHT/TOP_BOTTOM
BAND_ORGANIZATION: SINGLE FILE
BAND_CONTENT: BLACK&WHITE
BAND_CONTENT: UNDEFINED
BAND_CONTENT: UNDEFINED
BITS_PER_PIXEL: 8
SAMPLES_AND_LINES: 5357 7581
HORIZONTAL_DATUM: NAD83
HORIZONTAL_COORDINATE_SYSTEM: UTM
COORDINATE_ZONE: 12
HORIZONTAL_UNITS: METERS
HORIZONTAL_RESOLUTION: 1.00000
SECONDARY_HORIZONTAL_DATUM: NAD27
XY_ORIGIN: 532197.00000 5330615.00000
SECONDARY_XY_ORIGIN: 532255.63300 5330399.18300
NATION: US
NATION: "SCIENCE
STATE: MT
NW_QUAD_CORNER_XY: 532556.58300 5330286.16000
NE_QUAD_CORNER_XY: 537207.51200 5330314.49300
SE_QUAD_CORNERY_XY: 537252.63000 5323367.79200
SW_QUAD_CORNER_XY: 532596.06100 5323339.45200
SECONDARY_NW_QUAD_XY: 532557.61000 5330067.25400
SECONDARY_NE_QUAD_XY: 537208.68600 5330095.58800
SECONDARY_SE_QUAD_XY: 537253.80300 5323148.90100
SECONDARY_SW_QUAD_XY: 532597.08800 5323120.56000
RMSE_XY: 2.80000
IMAGE_SOURCE: BLACK AND WHITE FILM
SOURCE_IMAGE_ID: NAPP 9167 086
SOURCE_IMAGE_DATE: 1996 08 26
SOURCE_IMAGE_ID: NAPP 9167 087
SOURCE_IMAGE_DATE: 1996 08 26
SOURCE_DEM_DATE: 1990 00 00
AGENCY: WESTERN MAPPING CENTER (WMC)
PRODUCER: UNDEFINED
PRODUCTION_SYSTEM: GIS/MAGIC
COMPRESSION: UNDEFINED
STANDARD_VERSION: 1996 12
METADATA_DATE: 2000 06 13
DATA_FILE_SIZE: 40616774
BYTE_COUNT: 5357
