FILENAME: O4811060.NWS.1080860.tif
QUADRANGLE_NAME: DAY SCHOOL
QUADRANT: NW
WEST_LONGITUDE: -110 37 30.00000
EAST_LONGITUDE: -110 33 45.00000
NORTH_LATITUDE: 48 7 30.00000
SOUTH_LATITUDE: 48 3 45.00000
PRODUCTION_DATE: 2000 5 19
RASTER_ORDER: LEFT_RIGHT/TOP_BOTTOM
BAND_ORGANIZATION: SINGLE FILE
BAND_CONTENT: BLACK&WHITE
BAND_CONTENT: UNDEFINED
BAND_CONTENT: UNDEFINED
BITS_PER_PIXEL: 8
SAMPLES_AND_LINES: 5352 7578
HORIZONTAL_DATUM: NAD83
HORIZONTAL_COORDINATE_SYSTEM: UTM
COORDINATE_ZONE: 12
HORIZONTAL_UNITS: METERS
HORIZONTAL_RESOLUTION: 1.00000
SECONDARY_HORIZONTAL_DATUM: NAD27
XY_ORIGIN: 527546.00000 5330587.00000
SECONDARY_XY_ORIGIN: 527604.64300 5330371.18000
NATION: US
NATION: "SCIENCE
STATE: MT
NW_QUAD_CORNER_XY: 527905.65000 5330261.60500
NE_QUAD_CORNER_XY: 532556.58300 5330286.16000
SE_QUAD_CORNERY_XY: 532596.06100 5323339.45200
SW_QUAD_CORNER_XY: 527939.48900 5323314.89200
SECONDARY_NW_QUAD_XY: 527906.53100 5330042.69900
SECONDARY_NE_QUAD_XY: 532557.61000 5330067.25400
SECONDARY_SE_QUAD_XY: 532597.08800 5323120.56000
SECONDARY_SW_QUAD_XY: 527940.36900 5323095.99900
RMSE_XY: 1.50000
IMAGE_SOURCE: BLACK AND WHITE FILM
SOURCE_IMAGE_ID: NAPP 9167 147
SOURCE_IMAGE_DATE: 1996 08 26
SOURCE_IMAGE_ID: NAPP 9167 185
SOURCE_IMAGE_DATE: 1996 08 26
SOURCE_IMAGE_ID: NAPP 9167 148
SOURCE_IMAGE_DATE: 1996 08 26
SOURCE_IMAGE_ID: NAPP 9167 146
SOURCE_IMAGE_DATE: 1996 08 26
SOURCE_IMAGE_ID: NAPP 9167 145
SOURCE_IMAGE_DATE: 1996 08 26
SOURCE_DEM_DATE: 1990 00 00
AGENCY: WESTERN MAPPING CENTER (WMC)
PRODUCER: UNDEFINED
PRODUCTION_SYSTEM: GIS/MAGIC
COMPRESSION: UNDEFINED
STANDARD_VERSION: 1996 12
METADATA_DATE: 2000 06 13
DATA_FILE_SIZE: 40562808
BYTE_COUNT: 5352
