FILENAME: O4811060.SWS.1080862.tif
QUADRANGLE_NAME: DAY SCHOOL
QUADRANT: SW
WEST_LONGITUDE: -110 37 30.00000
EAST_LONGITUDE: -110 33 45.00000
NORTH_LATITUDE: 48 3 45.00000
SOUTH_LATITUDE: 48 0 0.00000
PRODUCTION_DATE: 2000 5 19
RASTER_ORDER: LEFT_RIGHT/TOP_BOTTOM
BAND_ORGANIZATION: SINGLE FILE
BAND_CONTENT: BLACK&WHITE
BAND_CONTENT: UNDEFINED
BAND_CONTENT: UNDEFINED
BITS_PER_PIXEL: 8
SAMPLES_AND_LINES: 5357 7578
HORIZONTAL_DATUM: NAD83
HORIZONTAL_COORDINATE_SYSTEM: UTM
COORDINATE_ZONE: 12
HORIZONTAL_UNITS: METERS
HORIZONTAL_RESOLUTION: 1.00000
SECONDARY_HORIZONTAL_DATUM: NAD27
XY_ORIGIN: 527580.00000 5323640.00000
SECONDARY_XY_ORIGIN: 527638.57200 5323424.42600
NATION: US
NATION: "SCIENCE
STATE: MT
NW_QUAD_CORNER_XY: 527939.48900 5323314.89200
NE_QUAD_CORNER_XY: 532596.06100 5323339.45200
SE_QUAD_CORNERY_XY: 532635.50000 5316392.82000
SW_QUAD_CORNER_XY: 527973.29300 5316368.25400
SECONDARY_NW_QUAD_XY: 527940.36900 5323095.99900
SECONDARY_NE_QUAD_XY: 532597.08800 5323120.56000
SECONDARY_SE_QUAD_XY: 532636.52700 5316173.94200
SECONDARY_SW_QUAD_XY: 527974.17300 5316149.37500
RMSE_XY: 1.20000
IMAGE_SOURCE: BLACK AND WHITE FILM
SOURCE_IMAGE_ID: NAPP 9167 149
SOURCE_IMAGE_DATE: 1996 08 26
SOURCE_IMAGE_ID: NAPP 9167 181
SOURCE_IMAGE_DATE: 1996 08 26
SOURCE_IMAGE_ID: NAPP 9167 150
SOURCE_IMAGE_DATE: 1996 08 26
SOURCE_DEM_DATE: 1990 00 00
AGENCY: WESTERN MAPPING CENTER (WMC)
PRODUCER: UNDEFINED
PRODUCTION_SYSTEM: GIS/MAGIC
COMPRESSION: UNDEFINED
STANDARD_VERSION: 1996 12
METADATA_DATE: 2000 06 13
DATA_FILE_SIZE: 40600703
BYTE_COUNT: 5357
