FILENAME: O4811059.SWS.1080838.tif
QUADRANGLE_NAME: DAY SCHOOL SW
QUADRANT: SW
WEST_LONGITUDE: -110 45 0.00000
EAST_LONGITUDE: -110 41 15.00000
NORTH_LATITUDE: 48 3 45.00000
SOUTH_LATITUDE: 48 0 0.00000
PRODUCTION_DATE: 2000 5 16
RASTER_ORDER: LEFT_RIGHT/TOP_BOTTOM
BAND_ORGANIZATION: SINGLE FILE
BAND_CONTENT: BLACK&WHITE
BAND_CONTENT: UNDEFINED
BAND_CONTENT: UNDEFINED
BITS_PER_PIXEL: 8
SAMPLES_AND_LINES: 5346 7571
HORIZONTAL_DATUM: NAD83
HORIZONTAL_COORDINATE_SYSTEM: UTM
COORDINATE_ZONE: 12
HORIZONTAL_UNITS: METERS
HORIZONTAL_RESOLUTION: 1.00000
SECONDARY_HORIZONTAL_DATUM: NAD27
XY_ORIGIN: 518267.00000 5323595.00000
SECONDARY_XY_ORIGIN: 518325.56700 5323379.45500
NATION: US
NATION: "SCIENCE
STATE: MT
NW_QUAD_CORNER_XY: 518626.33300 5323277.10600
NE_QUAD_CORNER_XY: 523282.91200 5323294.10900
SE_QUAD_CORNERY_XY: 523311.08300 5316347.46700
SW_QUAD_CORNER_XY: 518648.87000 5316330.45900
SECONDARY_NW_QUAD_XY: 518626.92000 5323058.21200
SECONDARY_NE_QUAD_XY: 523283.64600 5323075.21600
SECONDARY_SE_QUAD_XY: 523311.81600 5316128.58800
SECONDARY_SW_QUAD_XY: 518649.45700 5316111.58000
RMSE_XY: 1.50000
IMAGE_SOURCE: BLACK AND WHITE FILM
SOURCE_IMAGE_ID: NAPP 9167 183
SOURCE_IMAGE_DATE: 1996 08 26
SOURCE_IMAGE_ID: NAPP 9167 288
SOURCE_IMAGE_DATE: 1996 08 26
SOURCE_IMAGE_ID: NAPP 9167 290
SOURCE_IMAGE_DATE: 1996 08 26
SOURCE_IMAGE_ID: NAPP 9167 247
SOURCE_IMAGE_DATE: 1996 08 26
SOURCE_IMAGE_ID: NAPP 9167 245
SOURCE_IMAGE_DATE: 1996 08 26
SOURCE_DEM_DATE: 1963 00 00
AGENCY: WESTERN MAPPING CENTER (WMC)
PRODUCER: UNDEFINED
PRODUCTION_SYSTEM: GIS/MAGIC
COMPRESSION: UNDEFINED
STANDARD_VERSION: 1996 12
METADATA_DATE: 2000 06 13
DATA_FILE_SIZE: 40479912
BYTE_COUNT: 5346
