FILENAME: O4811058.NES.1080795.tif
QUADRANGLE_NAME: GOOSE BILL BUTTE
QUADRANT: NE
WEST_LONGITUDE: -110 48 45.00000
EAST_LONGITUDE: -110 45 0.00000
NORTH_LATITUDE: 48 7 30.00000
SOUTH_LATITUDE: 48 3 45.00000
PRODUCTION_DATE: 2000 5 16
RASTER_ORDER: LEFT_RIGHT/TOP_BOTTOM
BAND_ORGANIZATION: SINGLE FILE
BAND_CONTENT: BLACK&WHITE
BAND_CONTENT: UNDEFINED
BAND_CONTENT: UNDEFINED
BITS_PER_PIXEL: 8
SAMPLES_AND_LINES: 5335 7566
HORIZONTAL_DATUM: NAD83
HORIZONTAL_COORDINATE_SYSTEM: UTM
COORDINATE_ZONE: 12
HORIZONTAL_UNITS: METERS
HORIZONTAL_RESOLUTION: 1.00000
SECONDARY_HORIZONTAL_DATUM: NAD27
XY_ORIGIN: 513593.00000 5330524.00000
SECONDARY_XY_ORIGIN: 513651.78100 5330308.11000
NATION: US
NATION: "SCIENCE
STATE: MT
NW_QUAD_CORNER_XY: 513952.83300 5330210.60600
NE_QUAD_CORNER_XY: 518603.77500 5330223.82800
SE_QUAD_CORNERY_XY: 518626.33300 5323277.10600
SW_QUAD_CORNER_XY: 513969.75200 5323263.88100
SECONDARY_NW_QUAD_XY: 513953.27300 5329991.69800
SECONDARY_NE_QUAD_XY: 518604.36200 5330004.92000
SECONDARY_SE_QUAD_XY: 518626.92000 5323058.21200
SECONDARY_SW_QUAD_XY: 513970.19200 5323044.98600
RMSE_XY: 4.60000
IMAGE_SOURCE: BLACK AND WHITE FILM
SOURCE_IMAGE_ID: NAPP 9167 291
SOURCE_IMAGE_DATE: 1996 08 26
SOURCE_IMAGE_ID: NAPP 9168 039
SOURCE_IMAGE_DATE: 1996 08 26
SOURCE_IMAGE_ID: NAPP 9167 290
SOURCE_IMAGE_DATE: 1996 08 26
SOURCE_IMAGE_ID: NAPP 9167 292
SOURCE_IMAGE_DATE: 1996 08 26
SOURCE_DEM_DATE: 1993 00 00
AGENCY: WESTERN MAPPING CENTER (WMC)
PRODUCER: UNDEFINED
PRODUCTION_SYSTEM: GIS/MAGIC
COMPRESSION: UNDEFINED
STANDARD_VERSION: 1996 12
METADATA_DATE: 2000 06 13
DATA_FILE_SIZE: 40369945
BYTE_COUNT: 5335
